BEGIN:VCALENDAR
VERSION:2.0
PRODID:-//Arden Buzz Ware - ECPv6.15.20//NONSGML v1.0//EN
CALSCALE:GREGORIAN
METHOD:PUBLISH
X-WR-CALNAME:Arden Buzz Ware
X-ORIGINAL-URL:https://ardenbuzz.com
X-WR-CALDESC:Events for Arden Buzz Ware
REFRESH-INTERVAL;VALUE=DURATION:PT1H
X-Robots-Tag:noindex
X-PUBLISHED-TTL:PT1H
BEGIN:VTIMEZONE
TZID:America/New_York
BEGIN:DAYLIGHT
TZOFFSETFROM:-0500
TZOFFSETTO:-0400
TZNAME:EDT
DTSTART:20290311T070000
END:DAYLIGHT
BEGIN:STANDARD
TZOFFSETFROM:-0400
TZOFFSETTO:-0500
TZNAME:EST
DTSTART:20291104T060000
END:STANDARD
BEGIN:DAYLIGHT
TZOFFSETFROM:-0500
TZOFFSETTO:-0400
TZNAME:EDT
DTSTART:20300310T070000
END:DAYLIGHT
BEGIN:STANDARD
TZOFFSETFROM:-0400
TZOFFSETTO:-0500
TZNAME:EST
DTSTART:20301103T060000
END:STANDARD
BEGIN:DAYLIGHT
TZOFFSETFROM:-0500
TZOFFSETTO:-0400
TZNAME:EDT
DTSTART:20310309T070000
END:DAYLIGHT
BEGIN:STANDARD
TZOFFSETFROM:-0400
TZOFFSETTO:-0500
TZNAME:EST
DTSTART:20311102T060000
END:STANDARD
END:VTIMEZONE
BEGIN:VEVENT
DTSTART;TZID=America/New_York:20300101T193000
DTEND;TZID=America/New_York:20300101T210000
DTSTAMP:20260424T065747
CREATED:20250918T152453Z
LAST-MODIFIED:20250918T152453Z
UID:10004908-1893526200-1893531600@ardenbuzz.com
SUMMARY:Civic Committee Meeting
DESCRIPTION:
URL:https://ardenbuzz.com/event/civic-committee-meeting-4/2030-01-01/
LOCATION:2
CATEGORIES:Committee
END:VEVENT
BEGIN:VEVENT
DTSTART;TZID=America/New_York:20300102T174500
DTEND;TZID=America/New_York:20300102T220000
DTSTAMP:20260424T065747
CREATED:20250815T001731Z
LAST-MODIFIED:20251215T190352Z
UID:10004556-1893606300-1893621600@ardenbuzz.com
SUMMARY:Awakened Heart
DESCRIPTION:
URL:https://ardenbuzz.com/event/awakened-heart-3/2030-01-02/
LOCATION:3
CATEGORIES:Rental
END:VEVENT
BEGIN:VEVENT
DTSTART;TZID=America/New_York:20300103T090000
DTEND;TZID=America/New_York:20300103T100000
DTSTAMP:20260424T065747
CREATED:20250815T002135Z
LAST-MODIFIED:20251215T190033Z
UID:10003163-1893661200-1893664800@ardenbuzz.com
SUMMARY:Tai Chi
DESCRIPTION:
URL:https://ardenbuzz.com/event/tai-chi-2-2/2030-01-03/
LOCATION:1
CATEGORIES:Community Event
END:VEVENT
BEGIN:VEVENT
DTSTART;TZID=America/New_York:20300103T190000
DTEND;TZID=America/New_York:20300103T210000
DTSTAMP:20260424T065747
CREATED:20250406T160451Z
LAST-MODIFIED:20251215T203612Z
UID:10000858-1893697200-1893704400@ardenbuzz.com
SUMMARY:Qi Gong
DESCRIPTION:
URL:https://ardenbuzz.com/event/qi-gong/2030-01-03/
LOCATION:3
CATEGORIES:Rental
END:VEVENT
BEGIN:VEVENT
DTSTART;TZID=America/New_York:20300103T190000
DTEND;TZID=America/New_York:20300103T210000
DTSTAMP:20260424T065747
CREATED:20250409T154517Z
LAST-MODIFIED:20251215T184913Z
UID:10002260-1893697200-1893704400@ardenbuzz.com
SUMMARY:Playground Committee
DESCRIPTION:
URL:https://ardenbuzz.com/event/playground-committee/2030-01-03/
LOCATION:1
CATEGORIES:Committee
END:VEVENT
BEGIN:VEVENT
DTSTART;TZID=America/New_York:20300105T090000
DTEND;TZID=America/New_York:20300105T100000
DTSTAMP:20260424T065747
CREATED:20250815T002135Z
LAST-MODIFIED:20251215T190033Z
UID:10003164-1893834000-1893837600@ardenbuzz.com
SUMMARY:Tai Chi
DESCRIPTION:
URL:https://ardenbuzz.com/event/tai-chi-2-2/2030-01-05/
LOCATION:1
CATEGORIES:Community Event
END:VEVENT
BEGIN:VEVENT
DTSTART;TZID=America/New_York:20300106T090000
DTEND;TZID=America/New_York:20300106T130000
DTSTAMP:20260424T065747
CREATED:20250404T031015Z
LAST-MODIFIED:20251129T175139Z
UID:10000255-1893920400-1893934800@ardenbuzz.com
SUMMARY:Awakened Heart
DESCRIPTION:Spiritual Center \n 
URL:https://ardenbuzz.com/event/awakened-heart/2030-01-06/
LOCATION:1/2/3
CATEGORIES:Rental
END:VEVENT
BEGIN:VEVENT
DTSTART;TZID=America/New_York:20300107T090000
DTEND;TZID=America/New_York:20300107T100000
DTSTAMP:20260424T065747
CREATED:20250815T002135Z
LAST-MODIFIED:20251215T190033Z
UID:10003165-1894006800-1894010400@ardenbuzz.com
SUMMARY:Tai Chi
DESCRIPTION:
URL:https://ardenbuzz.com/event/tai-chi-2-2/2030-01-07/
LOCATION:1
CATEGORIES:Community Event
END:VEVENT
BEGIN:VEVENT
DTSTART;TZID=America/New_York:20300107T190000
DTEND;TZID=America/New_York:20300107T210000
DTSTAMP:20260424T065747
CREATED:20250407T210151Z
LAST-MODIFIED:20250407T210151Z
UID:10001170-1894042800-1894050000@ardenbuzz.com
SUMMARY:Art Studio
DESCRIPTION:
URL:https://ardenbuzz.com/event/art-studio/2030-01-07/
LOCATION:3
CATEGORIES:Community Event
END:VEVENT
BEGIN:VEVENT
DTSTART;TZID=America/New_York:20300108T180000
DTEND;TZID=America/New_York:20300108T190000
DTSTAMP:20260424T065747
CREATED:20260109T044115Z
LAST-MODIFIED:20260109T044115Z
UID:10005256-1894125600-1894129200@ardenbuzz.com
SUMMARY:Playground Committee
DESCRIPTION:
URL:https://ardenbuzz.com/event/playground-committee-3/2030-01-08/
LOCATION:2
CATEGORIES:Committee
END:VEVENT
BEGIN:VEVENT
DTSTART;TZID=America/New_York:20300108T193000
DTEND;TZID=America/New_York:20300108T210000
DTSTAMP:20260424T065747
CREATED:20250430T151450Z
LAST-MODIFIED:20250430T151450Z
UID:10002387-1894131000-1894136400@ardenbuzz.com
SUMMARY:Community Planning Committee
DESCRIPTION:
URL:https://ardenbuzz.com/event/community-planning-committee-3/2030-01-08/
LOCATION:2
CATEGORIES:Committee
END:VEVENT
BEGIN:VEVENT
DTSTART;TZID=America/New_York:20300109T174500
DTEND;TZID=America/New_York:20300109T220000
DTSTAMP:20260424T065747
CREATED:20250815T001731Z
LAST-MODIFIED:20251215T190352Z
UID:10004557-1894211100-1894226400@ardenbuzz.com
SUMMARY:Awakened Heart
DESCRIPTION:
URL:https://ardenbuzz.com/event/awakened-heart-3/2030-01-09/
LOCATION:3
CATEGORIES:Rental
END:VEVENT
BEGIN:VEVENT
DTSTART;TZID=America/New_York:20300109T193000
DTEND;TZID=America/New_York:20300109T213000
DTSTAMP:20260424T065747
CREATED:20250818T175109Z
LAST-MODIFIED:20260422T144409Z
UID:10004716-1894217400-1894224600@ardenbuzz.com
SUMMARY:Community Planning Committee
DESCRIPTION:
URL:https://ardenbuzz.com/event/community-planning-committee-5/2030-01-09/
LOCATION:2
CATEGORIES:Committee
END:VEVENT
BEGIN:VEVENT
DTSTART;TZID=America/New_York:20300110T090000
DTEND;TZID=America/New_York:20300110T100000
DTSTAMP:20260424T065747
CREATED:20250815T002135Z
LAST-MODIFIED:20251215T190033Z
UID:10003166-1894266000-1894269600@ardenbuzz.com
SUMMARY:Tai Chi
DESCRIPTION:
URL:https://ardenbuzz.com/event/tai-chi-2-2/2030-01-10/
LOCATION:1
CATEGORIES:Community Event
END:VEVENT
BEGIN:VEVENT
DTSTART;TZID=America/New_York:20300110T190000
DTEND;TZID=America/New_York:20300110T210000
DTSTAMP:20260424T065747
CREATED:20250406T160451Z
LAST-MODIFIED:20251215T203612Z
UID:10000859-1894302000-1894309200@ardenbuzz.com
SUMMARY:Qi Gong
DESCRIPTION:
URL:https://ardenbuzz.com/event/qi-gong/2030-01-10/
LOCATION:3
CATEGORIES:Rental
END:VEVENT
BEGIN:VEVENT
DTSTART;TZID=America/New_York:20300112T090000
DTEND;TZID=America/New_York:20300112T100000
DTSTAMP:20260424T065747
CREATED:20250815T002135Z
LAST-MODIFIED:20251215T190033Z
UID:10003167-1894438800-1894442400@ardenbuzz.com
SUMMARY:Tai Chi
DESCRIPTION:
URL:https://ardenbuzz.com/event/tai-chi-2-2/2030-01-12/
LOCATION:1
CATEGORIES:Community Event
END:VEVENT
BEGIN:VEVENT
DTSTART;TZID=America/New_York:20300113T090000
DTEND;TZID=America/New_York:20300113T130000
DTSTAMP:20260424T065747
CREATED:20250404T031015Z
LAST-MODIFIED:20251129T175139Z
UID:10000256-1894525200-1894539600@ardenbuzz.com
SUMMARY:Awakened Heart
DESCRIPTION:Spiritual Center \n 
URL:https://ardenbuzz.com/event/awakened-heart/2030-01-13/
LOCATION:1/2/3
CATEGORIES:Rental
END:VEVENT
BEGIN:VEVENT
DTSTART;TZID=America/New_York:20300114T090000
DTEND;TZID=America/New_York:20300114T100000
DTSTAMP:20260424T065747
CREATED:20250815T002135Z
LAST-MODIFIED:20251215T190033Z
UID:10003168-1894611600-1894615200@ardenbuzz.com
SUMMARY:Tai Chi
DESCRIPTION:
URL:https://ardenbuzz.com/event/tai-chi-2-2/2030-01-14/
LOCATION:1
CATEGORIES:Community Event
END:VEVENT
BEGIN:VEVENT
DTSTART;TZID=America/New_York:20300114T190000
DTEND;TZID=America/New_York:20300114T210000
DTSTAMP:20260424T065747
CREATED:20250407T210151Z
LAST-MODIFIED:20250407T210151Z
UID:10001171-1894647600-1894654800@ardenbuzz.com
SUMMARY:Art Studio
DESCRIPTION:
URL:https://ardenbuzz.com/event/art-studio/2030-01-14/
LOCATION:3
CATEGORIES:Community Event
END:VEVENT
BEGIN:VEVENT
DTSTART;TZID=America/New_York:20300114T190000
DTEND;TZID=America/New_York:20300114T210000
DTSTAMP:20260424T065747
CREATED:20250409T154347Z
LAST-MODIFIED:20250409T154347Z
UID:10002199-1894647600-1894654800@ardenbuzz.com
SUMMARY:Forest Committee
DESCRIPTION:
URL:https://ardenbuzz.com/event/forest-committee/2030-01-14/
LOCATION:1
CATEGORIES:Committee
END:VEVENT
BEGIN:VEVENT
DTSTART;TZID=America/New_York:20300116T174500
DTEND;TZID=America/New_York:20300116T220000
DTSTAMP:20260424T065747
CREATED:20250815T001731Z
LAST-MODIFIED:20251215T190352Z
UID:10004558-1894815900-1894831200@ardenbuzz.com
SUMMARY:Awakened Heart
DESCRIPTION:
URL:https://ardenbuzz.com/event/awakened-heart-3/2030-01-16/
LOCATION:3
CATEGORIES:Rental
END:VEVENT
BEGIN:VEVENT
DTSTART;TZID=America/New_York:20300117T090000
DTEND;TZID=America/New_York:20300117T100000
DTSTAMP:20260424T065747
CREATED:20250815T002135Z
LAST-MODIFIED:20251215T190033Z
UID:10003169-1894870800-1894874400@ardenbuzz.com
SUMMARY:Tai Chi
DESCRIPTION:
URL:https://ardenbuzz.com/event/tai-chi-2-2/2030-01-17/
LOCATION:1
CATEGORIES:Community Event
END:VEVENT
BEGIN:VEVENT
DTSTART;TZID=America/New_York:20300117T190000
DTEND;TZID=America/New_York:20300117T210000
DTSTAMP:20260424T065747
CREATED:20250406T160451Z
LAST-MODIFIED:20251215T203612Z
UID:10000860-1894906800-1894914000@ardenbuzz.com
SUMMARY:Qi Gong
DESCRIPTION:
URL:https://ardenbuzz.com/event/qi-gong/2030-01-17/
LOCATION:3
CATEGORIES:Rental
END:VEVENT
BEGIN:VEVENT
DTSTART;TZID=America/New_York:20300119T090000
DTEND;TZID=America/New_York:20300119T100000
DTSTAMP:20260424T065747
CREATED:20250815T002135Z
LAST-MODIFIED:20251215T190033Z
UID:10003170-1895043600-1895047200@ardenbuzz.com
SUMMARY:Tai Chi
DESCRIPTION:
URL:https://ardenbuzz.com/event/tai-chi-2-2/2030-01-19/
LOCATION:1
CATEGORIES:Community Event
END:VEVENT
BEGIN:VEVENT
DTSTART;TZID=America/New_York:20300120T090000
DTEND;TZID=America/New_York:20300120T130000
DTSTAMP:20260424T065747
CREATED:20250404T031015Z
LAST-MODIFIED:20251129T175139Z
UID:10000257-1895130000-1895144400@ardenbuzz.com
SUMMARY:Awakened Heart
DESCRIPTION:Spiritual Center \n 
URL:https://ardenbuzz.com/event/awakened-heart/2030-01-20/
LOCATION:1/2/3
CATEGORIES:Rental
END:VEVENT
BEGIN:VEVENT
DTSTART;TZID=America/New_York:20300121T090000
DTEND;TZID=America/New_York:20300121T100000
DTSTAMP:20260424T065747
CREATED:20250815T002135Z
LAST-MODIFIED:20251215T190033Z
UID:10003171-1895216400-1895220000@ardenbuzz.com
SUMMARY:Tai Chi
DESCRIPTION:
URL:https://ardenbuzz.com/event/tai-chi-2-2/2030-01-21/
LOCATION:1
CATEGORIES:Community Event
END:VEVENT
BEGIN:VEVENT
DTSTART;TZID=America/New_York:20300121T170000
DTEND;TZID=America/New_York:20300121T190000
DTSTAMP:20260424T065747
CREATED:20250404T041536Z
LAST-MODIFIED:20250404T041536Z
UID:10000592-1895245200-1895252400@ardenbuzz.com
SUMMARY:Buzz Committee
DESCRIPTION:
URL:https://ardenbuzz.com/event/buzz-committee/2030-01-21/
LOCATION:2
CATEGORIES:Committee
END:VEVENT
BEGIN:VEVENT
DTSTART;TZID=America/New_York:20300121T190000
DTEND;TZID=America/New_York:20300121T210000
DTSTAMP:20260424T065747
CREATED:20250407T210151Z
LAST-MODIFIED:20250407T210151Z
UID:10001172-1895252400-1895259600@ardenbuzz.com
SUMMARY:Art Studio
DESCRIPTION:
URL:https://ardenbuzz.com/event/art-studio/2030-01-21/
LOCATION:3
CATEGORIES:Community Event
END:VEVENT
BEGIN:VEVENT
DTSTART;TZID=America/New_York:20300123T174500
DTEND;TZID=America/New_York:20300123T220000
DTSTAMP:20260424T065747
CREATED:20250815T001731Z
LAST-MODIFIED:20251215T190352Z
UID:10004559-1895420700-1895436000@ardenbuzz.com
SUMMARY:Awakened Heart
DESCRIPTION:
URL:https://ardenbuzz.com/event/awakened-heart-3/2030-01-23/
LOCATION:3
CATEGORIES:Rental
END:VEVENT
BEGIN:VEVENT
DTSTART;TZID=America/New_York:20300124T090000
DTEND;TZID=America/New_York:20300124T100000
DTSTAMP:20260424T065747
CREATED:20250815T002135Z
LAST-MODIFIED:20251215T190033Z
UID:10003172-1895475600-1895479200@ardenbuzz.com
SUMMARY:Tai Chi
DESCRIPTION:
URL:https://ardenbuzz.com/event/tai-chi-2-2/2030-01-24/
LOCATION:1
CATEGORIES:Community Event
END:VEVENT
END:VCALENDAR