BEGIN:VCALENDAR
VERSION:2.0
PRODID:-//Arden Buzz Ware - ECPv6.15.20//NONSGML v1.0//EN
CALSCALE:GREGORIAN
METHOD:PUBLISH
X-ORIGINAL-URL:https://ardenbuzz.com
X-WR-CALDESC:Events for Arden Buzz Ware
REFRESH-INTERVAL;VALUE=DURATION:PT1H
X-Robots-Tag:noindex
X-PUBLISHED-TTL:PT1H
BEGIN:VTIMEZONE
TZID:America/New_York
BEGIN:DAYLIGHT
TZOFFSETFROM:-0500
TZOFFSETTO:-0400
TZNAME:EDT
DTSTART:20280312T070000
END:DAYLIGHT
BEGIN:STANDARD
TZOFFSETFROM:-0400
TZOFFSETTO:-0500
TZNAME:EST
DTSTART:20281105T060000
END:STANDARD
BEGIN:DAYLIGHT
TZOFFSETFROM:-0500
TZOFFSETTO:-0400
TZNAME:EDT
DTSTART:20290311T070000
END:DAYLIGHT
BEGIN:STANDARD
TZOFFSETFROM:-0400
TZOFFSETTO:-0500
TZNAME:EST
DTSTART:20291104T060000
END:STANDARD
BEGIN:DAYLIGHT
TZOFFSETFROM:-0500
TZOFFSETTO:-0400
TZNAME:EDT
DTSTART:20300310T070000
END:DAYLIGHT
BEGIN:STANDARD
TZOFFSETFROM:-0400
TZOFFSETTO:-0500
TZNAME:EST
DTSTART:20301103T060000
END:STANDARD
END:VTIMEZONE
BEGIN:VEVENT
DTSTART;TZID=America/New_York:20291206T090000
DTEND;TZID=America/New_York:20291206T100000
DTSTAMP:20260423T232710
CREATED:20250815T002135Z
LAST-MODIFIED:20251215T190033Z
UID:10003151-1891242000-1891245600@ardenbuzz.com
SUMMARY:Tai Chi
DESCRIPTION:
URL:https://ardenbuzz.com/event/tai-chi-2-2/2029-12-06/
LOCATION:1
CATEGORIES:Community Event
END:VEVENT
BEGIN:VEVENT
DTSTART;TZID=America/New_York:20291206T190000
DTEND;TZID=America/New_York:20291206T210000
DTSTAMP:20260423T232710
CREATED:20250406T160451Z
LAST-MODIFIED:20251215T203612Z
UID:10000854-1891278000-1891285200@ardenbuzz.com
SUMMARY:Qi Gong
DESCRIPTION:
URL:https://ardenbuzz.com/event/qi-gong/2029-12-06/
LOCATION:3
CATEGORIES:Rental
END:VEVENT
BEGIN:VEVENT
DTSTART;TZID=America/New_York:20291206T190000
DTEND;TZID=America/New_York:20291206T210000
DTSTAMP:20260423T232710
CREATED:20250409T154517Z
LAST-MODIFIED:20251215T184913Z
UID:10002259-1891278000-1891285200@ardenbuzz.com
SUMMARY:Playground Committee
DESCRIPTION:
URL:https://ardenbuzz.com/event/playground-committee/2029-12-06/
LOCATION:1
CATEGORIES:Committee
END:VEVENT
BEGIN:VEVENT
DTSTART;TZID=America/New_York:20291208T090000
DTEND;TZID=America/New_York:20291208T100000
DTSTAMP:20260423T232710
CREATED:20250815T002135Z
LAST-MODIFIED:20251215T190033Z
UID:10003152-1891414800-1891418400@ardenbuzz.com
SUMMARY:Tai Chi
DESCRIPTION:
URL:https://ardenbuzz.com/event/tai-chi-2-2/2029-12-08/
LOCATION:1
CATEGORIES:Community Event
END:VEVENT
BEGIN:VEVENT
DTSTART;TZID=America/New_York:20291209T090000
DTEND;TZID=America/New_York:20291209T130000
DTSTAMP:20260423T232710
CREATED:20250404T031015Z
LAST-MODIFIED:20251129T175139Z
UID:10000251-1891501200-1891515600@ardenbuzz.com
SUMMARY:Awakened Heart
DESCRIPTION:Spiritual Center \n 
URL:https://ardenbuzz.com/event/awakened-heart/2029-12-09/
LOCATION:1/2/3
CATEGORIES:Rental
END:VEVENT
BEGIN:VEVENT
DTSTART;TZID=America/New_York:20291210T090000
DTEND;TZID=America/New_York:20291210T100000
DTSTAMP:20260423T232710
CREATED:20250815T002135Z
LAST-MODIFIED:20251215T190033Z
UID:10003153-1891587600-1891591200@ardenbuzz.com
SUMMARY:Tai Chi
DESCRIPTION:
URL:https://ardenbuzz.com/event/tai-chi-2-2/2029-12-10/
LOCATION:1
CATEGORIES:Community Event
END:VEVENT
BEGIN:VEVENT
DTSTART;TZID=America/New_York:20291210T190000
DTEND;TZID=America/New_York:20291210T210000
DTSTAMP:20260423T232710
CREATED:20250407T210151Z
LAST-MODIFIED:20250407T210151Z
UID:10001166-1891623600-1891630800@ardenbuzz.com
SUMMARY:Art Studio
DESCRIPTION:
URL:https://ardenbuzz.com/event/art-studio/2029-12-10/
LOCATION:3
CATEGORIES:Community Event
END:VEVENT
BEGIN:VEVENT
DTSTART;TZID=America/New_York:20291210T190000
DTEND;TZID=America/New_York:20291210T210000
DTSTAMP:20260423T232710
CREATED:20250409T154347Z
LAST-MODIFIED:20250409T154347Z
UID:10002198-1891623600-1891630800@ardenbuzz.com
SUMMARY:Forest Committee
DESCRIPTION:
URL:https://ardenbuzz.com/event/forest-committee/2029-12-10/
LOCATION:1
CATEGORIES:Committee
END:VEVENT
BEGIN:VEVENT
DTSTART;TZID=America/New_York:20291211T180000
DTEND;TZID=America/New_York:20291211T190000
DTSTAMP:20260423T232710
CREATED:20260109T044115Z
LAST-MODIFIED:20260109T044115Z
UID:10005255-1891706400-1891710000@ardenbuzz.com
SUMMARY:Playground Committee
DESCRIPTION:
URL:https://ardenbuzz.com/event/playground-committee-3/2029-12-11/
LOCATION:2
CATEGORIES:Committee
END:VEVENT
BEGIN:VEVENT
DTSTART;TZID=America/New_York:20291211T193000
DTEND;TZID=America/New_York:20291211T210000
DTSTAMP:20260423T232710
CREATED:20250430T151450Z
LAST-MODIFIED:20250430T151450Z
UID:10002386-1891711800-1891717200@ardenbuzz.com
SUMMARY:Community Planning Committee
DESCRIPTION:
URL:https://ardenbuzz.com/event/community-planning-committee-3/2029-12-11/
LOCATION:2
CATEGORIES:Committee
END:VEVENT
BEGIN:VEVENT
DTSTART;TZID=America/New_York:20291212T174500
DTEND;TZID=America/New_York:20291212T220000
DTSTAMP:20260423T232710
CREATED:20250815T001731Z
LAST-MODIFIED:20251215T190352Z
UID:10004553-1891791900-1891807200@ardenbuzz.com
SUMMARY:Awakened Heart
DESCRIPTION:
URL:https://ardenbuzz.com/event/awakened-heart-3/2029-12-12/
LOCATION:3
CATEGORIES:Rental
END:VEVENT
BEGIN:VEVENT
DTSTART;TZID=America/New_York:20291212T193000
DTEND;TZID=America/New_York:20291212T213000
DTSTAMP:20260423T232710
CREATED:20250818T175109Z
LAST-MODIFIED:20260422T144409Z
UID:10004715-1891798200-1891805400@ardenbuzz.com
SUMMARY:Community Planning Committee
DESCRIPTION:
URL:https://ardenbuzz.com/event/community-planning-committee-5/2029-12-12/
LOCATION:2
CATEGORIES:Committee
END:VEVENT
BEGIN:VEVENT
DTSTART;TZID=America/New_York:20291213T090000
DTEND;TZID=America/New_York:20291213T100000
DTSTAMP:20260423T232710
CREATED:20250815T002135Z
LAST-MODIFIED:20251215T190033Z
UID:10003154-1891846800-1891850400@ardenbuzz.com
SUMMARY:Tai Chi
DESCRIPTION:
URL:https://ardenbuzz.com/event/tai-chi-2-2/2029-12-13/
LOCATION:1
CATEGORIES:Community Event
END:VEVENT
BEGIN:VEVENT
DTSTART;TZID=America/New_York:20291213T190000
DTEND;TZID=America/New_York:20291213T210000
DTSTAMP:20260423T232710
CREATED:20250406T160451Z
LAST-MODIFIED:20251215T203612Z
UID:10000855-1891882800-1891890000@ardenbuzz.com
SUMMARY:Qi Gong
DESCRIPTION:
URL:https://ardenbuzz.com/event/qi-gong/2029-12-13/
LOCATION:3
CATEGORIES:Rental
END:VEVENT
BEGIN:VEVENT
DTSTART;TZID=America/New_York:20291215T090000
DTEND;TZID=America/New_York:20291215T100000
DTSTAMP:20260423T232710
CREATED:20250815T002135Z
LAST-MODIFIED:20251215T190033Z
UID:10003155-1892019600-1892023200@ardenbuzz.com
SUMMARY:Tai Chi
DESCRIPTION:
URL:https://ardenbuzz.com/event/tai-chi-2-2/2029-12-15/
LOCATION:1
CATEGORIES:Community Event
END:VEVENT
BEGIN:VEVENT
DTSTART;TZID=America/New_York:20291216T090000
DTEND;TZID=America/New_York:20291216T130000
DTSTAMP:20260423T232710
CREATED:20250404T031015Z
LAST-MODIFIED:20251129T175139Z
UID:10000252-1892106000-1892120400@ardenbuzz.com
SUMMARY:Awakened Heart
DESCRIPTION:Spiritual Center \n 
URL:https://ardenbuzz.com/event/awakened-heart/2029-12-16/
LOCATION:1/2/3
CATEGORIES:Rental
END:VEVENT
BEGIN:VEVENT
DTSTART;TZID=America/New_York:20291217T090000
DTEND;TZID=America/New_York:20291217T100000
DTSTAMP:20260423T232710
CREATED:20250815T002135Z
LAST-MODIFIED:20251215T190033Z
UID:10003156-1892192400-1892196000@ardenbuzz.com
SUMMARY:Tai Chi
DESCRIPTION:
URL:https://ardenbuzz.com/event/tai-chi-2-2/2029-12-17/
LOCATION:1
CATEGORIES:Community Event
END:VEVENT
BEGIN:VEVENT
DTSTART;TZID=America/New_York:20291217T170000
DTEND;TZID=America/New_York:20291217T190000
DTSTAMP:20260423T232710
CREATED:20250404T041536Z
LAST-MODIFIED:20250404T041536Z
UID:10000591-1892221200-1892228400@ardenbuzz.com
SUMMARY:Buzz Committee
DESCRIPTION:
URL:https://ardenbuzz.com/event/buzz-committee/2029-12-17/
LOCATION:2
CATEGORIES:Committee
END:VEVENT
BEGIN:VEVENT
DTSTART;TZID=America/New_York:20291217T190000
DTEND;TZID=America/New_York:20291217T210000
DTSTAMP:20260423T232710
CREATED:20250407T210151Z
LAST-MODIFIED:20250407T210151Z
UID:10001167-1892228400-1892235600@ardenbuzz.com
SUMMARY:Art Studio
DESCRIPTION:
URL:https://ardenbuzz.com/event/art-studio/2029-12-17/
LOCATION:3
CATEGORIES:Community Event
END:VEVENT
BEGIN:VEVENT
DTSTART;TZID=America/New_York:20291219T174500
DTEND;TZID=America/New_York:20291219T220000
DTSTAMP:20260423T232710
CREATED:20250815T001731Z
LAST-MODIFIED:20251215T190352Z
UID:10004554-1892396700-1892412000@ardenbuzz.com
SUMMARY:Awakened Heart
DESCRIPTION:
URL:https://ardenbuzz.com/event/awakened-heart-3/2029-12-19/
LOCATION:3
CATEGORIES:Rental
END:VEVENT
BEGIN:VEVENT
DTSTART;TZID=America/New_York:20291220T090000
DTEND;TZID=America/New_York:20291220T100000
DTSTAMP:20260423T232710
CREATED:20250815T002135Z
LAST-MODIFIED:20251215T190033Z
UID:10003157-1892451600-1892455200@ardenbuzz.com
SUMMARY:Tai Chi
DESCRIPTION:
URL:https://ardenbuzz.com/event/tai-chi-2-2/2029-12-20/
LOCATION:1
CATEGORIES:Community Event
END:VEVENT
BEGIN:VEVENT
DTSTART;TZID=America/New_York:20291220T190000
DTEND;TZID=America/New_York:20291220T210000
DTSTAMP:20260423T232710
CREATED:20250406T160451Z
LAST-MODIFIED:20251215T203612Z
UID:10000856-1892487600-1892494800@ardenbuzz.com
SUMMARY:Qi Gong
DESCRIPTION:
URL:https://ardenbuzz.com/event/qi-gong/2029-12-20/
LOCATION:3
CATEGORIES:Rental
END:VEVENT
BEGIN:VEVENT
DTSTART;TZID=America/New_York:20291222T090000
DTEND;TZID=America/New_York:20291222T100000
DTSTAMP:20260423T232710
CREATED:20250815T002135Z
LAST-MODIFIED:20251215T190033Z
UID:10003158-1892624400-1892628000@ardenbuzz.com
SUMMARY:Tai Chi
DESCRIPTION:
URL:https://ardenbuzz.com/event/tai-chi-2-2/2029-12-22/
LOCATION:1
CATEGORIES:Community Event
END:VEVENT
BEGIN:VEVENT
DTSTART;TZID=America/New_York:20291223T090000
DTEND;TZID=America/New_York:20291223T130000
DTSTAMP:20260423T232710
CREATED:20250404T031015Z
LAST-MODIFIED:20251129T175139Z
UID:10000253-1892710800-1892725200@ardenbuzz.com
SUMMARY:Awakened Heart
DESCRIPTION:Spiritual Center \n 
URL:https://ardenbuzz.com/event/awakened-heart/2029-12-23/
LOCATION:1/2/3
CATEGORIES:Rental
END:VEVENT
BEGIN:VEVENT
DTSTART;TZID=America/New_York:20291224T090000
DTEND;TZID=America/New_York:20291224T100000
DTSTAMP:20260423T232710
CREATED:20250815T002135Z
LAST-MODIFIED:20251215T190033Z
UID:10003159-1892797200-1892800800@ardenbuzz.com
SUMMARY:Tai Chi
DESCRIPTION:
URL:https://ardenbuzz.com/event/tai-chi-2-2/2029-12-24/
LOCATION:1
CATEGORIES:Community Event
END:VEVENT
BEGIN:VEVENT
DTSTART;TZID=America/New_York:20291224T190000
DTEND;TZID=America/New_York:20291224T210000
DTSTAMP:20260423T232710
CREATED:20250407T210151Z
LAST-MODIFIED:20250407T210151Z
UID:10001168-1892833200-1892840400@ardenbuzz.com
SUMMARY:Art Studio
DESCRIPTION:
URL:https://ardenbuzz.com/event/art-studio/2029-12-24/
LOCATION:3
CATEGORIES:Community Event
END:VEVENT
BEGIN:VEVENT
DTSTART;TZID=America/New_York:20291226T174500
DTEND;TZID=America/New_York:20291226T220000
DTSTAMP:20260423T232710
CREATED:20250815T001731Z
LAST-MODIFIED:20251215T190352Z
UID:10004555-1893001500-1893016800@ardenbuzz.com
SUMMARY:Awakened Heart
DESCRIPTION:
URL:https://ardenbuzz.com/event/awakened-heart-3/2029-12-26/
LOCATION:3
CATEGORIES:Rental
END:VEVENT
BEGIN:VEVENT
DTSTART;TZID=America/New_York:20291227T090000
DTEND;TZID=America/New_York:20291227T100000
DTSTAMP:20260423T232710
CREATED:20250815T002135Z
LAST-MODIFIED:20251215T190033Z
UID:10003160-1893056400-1893060000@ardenbuzz.com
SUMMARY:Tai Chi
DESCRIPTION:
URL:https://ardenbuzz.com/event/tai-chi-2-2/2029-12-27/
LOCATION:1
CATEGORIES:Community Event
END:VEVENT
BEGIN:VEVENT
DTSTART;TZID=America/New_York:20291227T190000
DTEND;TZID=America/New_York:20291227T210000
DTSTAMP:20260423T232710
CREATED:20250406T160451Z
LAST-MODIFIED:20251215T203612Z
UID:10000857-1893092400-1893099600@ardenbuzz.com
SUMMARY:Qi Gong
DESCRIPTION:
URL:https://ardenbuzz.com/event/qi-gong/2029-12-27/
LOCATION:3
CATEGORIES:Rental
END:VEVENT
BEGIN:VEVENT
DTSTART;TZID=America/New_York:20291229T090000
DTEND;TZID=America/New_York:20291229T100000
DTSTAMP:20260423T232710
CREATED:20250815T002135Z
LAST-MODIFIED:20251215T190033Z
UID:10003161-1893229200-1893232800@ardenbuzz.com
SUMMARY:Tai Chi
DESCRIPTION:
URL:https://ardenbuzz.com/event/tai-chi-2-2/2029-12-29/
LOCATION:1
CATEGORIES:Community Event
END:VEVENT
END:VCALENDAR