BEGIN:VCALENDAR
VERSION:2.0
PRODID:-//Arden Buzz Ware - ECPv6.15.20//NONSGML v1.0//EN
CALSCALE:GREGORIAN
METHOD:PUBLISH
X-ORIGINAL-URL:https://ardenbuzz.com
X-WR-CALDESC:Events for Arden Buzz Ware
REFRESH-INTERVAL;VALUE=DURATION:PT1H
X-Robots-Tag:noindex
X-PUBLISHED-TTL:PT1H
BEGIN:VTIMEZONE
TZID:America/New_York
BEGIN:DAYLIGHT
TZOFFSETFROM:-0500
TZOFFSETTO:-0400
TZNAME:EDT
DTSTART:20280312T070000
END:DAYLIGHT
BEGIN:STANDARD
TZOFFSETFROM:-0400
TZOFFSETTO:-0500
TZNAME:EST
DTSTART:20281105T060000
END:STANDARD
BEGIN:DAYLIGHT
TZOFFSETFROM:-0500
TZOFFSETTO:-0400
TZNAME:EDT
DTSTART:20290311T070000
END:DAYLIGHT
BEGIN:STANDARD
TZOFFSETFROM:-0400
TZOFFSETTO:-0500
TZNAME:EST
DTSTART:20291104T060000
END:STANDARD
BEGIN:DAYLIGHT
TZOFFSETFROM:-0500
TZOFFSETTO:-0400
TZNAME:EDT
DTSTART:20300310T070000
END:DAYLIGHT
BEGIN:STANDARD
TZOFFSETFROM:-0400
TZOFFSETTO:-0500
TZNAME:EST
DTSTART:20301103T060000
END:STANDARD
END:VTIMEZONE
BEGIN:VEVENT
DTSTART;TZID=America/New_York:20291113T193000
DTEND;TZID=America/New_York:20291113T210000
DTSTAMP:20260423T175609
CREATED:20250430T151450Z
LAST-MODIFIED:20250430T151450Z
UID:10002385-1889292600-1889298000@ardenbuzz.com
SUMMARY:Community Planning Committee
DESCRIPTION:
URL:https://ardenbuzz.com/event/community-planning-committee-3/2029-11-13/
LOCATION:2
CATEGORIES:Committee
END:VEVENT
BEGIN:VEVENT
DTSTART;TZID=America/New_York:20291114T174500
DTEND;TZID=America/New_York:20291114T220000
DTSTAMP:20260423T175609
CREATED:20250815T001731Z
LAST-MODIFIED:20251215T190352Z
UID:10004549-1889372700-1889388000@ardenbuzz.com
SUMMARY:Awakened Heart
DESCRIPTION:
URL:https://ardenbuzz.com/event/awakened-heart-3/2029-11-14/
LOCATION:3
CATEGORIES:Rental
END:VEVENT
BEGIN:VEVENT
DTSTART;TZID=America/New_York:20291114T193000
DTEND;TZID=America/New_York:20291114T213000
DTSTAMP:20260423T175609
CREATED:20250818T175109Z
LAST-MODIFIED:20260422T144409Z
UID:10004714-1889379000-1889386200@ardenbuzz.com
SUMMARY:Community Planning Committee
DESCRIPTION:
URL:https://ardenbuzz.com/event/community-planning-committee-5/2029-11-14/
LOCATION:2
CATEGORIES:Committee
END:VEVENT
BEGIN:VEVENT
DTSTART;TZID=America/New_York:20291115T090000
DTEND;TZID=America/New_York:20291115T100000
DTSTAMP:20260423T175609
CREATED:20250815T002135Z
LAST-MODIFIED:20251215T190033Z
UID:10003142-1889427600-1889431200@ardenbuzz.com
SUMMARY:Tai Chi
DESCRIPTION:
URL:https://ardenbuzz.com/event/tai-chi-2-2/2029-11-15/
LOCATION:1
CATEGORIES:Community Event
END:VEVENT
BEGIN:VEVENT
DTSTART;TZID=America/New_York:20291115T190000
DTEND;TZID=America/New_York:20291115T210000
DTSTAMP:20260423T175609
CREATED:20250406T160451Z
LAST-MODIFIED:20251215T203612Z
UID:10000851-1889463600-1889470800@ardenbuzz.com
SUMMARY:Qi Gong
DESCRIPTION:
URL:https://ardenbuzz.com/event/qi-gong/2029-11-15/
LOCATION:3
CATEGORIES:Rental
END:VEVENT
BEGIN:VEVENT
DTSTART;TZID=America/New_York:20291117T090000
DTEND;TZID=America/New_York:20291117T100000
DTSTAMP:20260423T175609
CREATED:20250815T002135Z
LAST-MODIFIED:20251215T190033Z
UID:10003143-1889600400-1889604000@ardenbuzz.com
SUMMARY:Tai Chi
DESCRIPTION:
URL:https://ardenbuzz.com/event/tai-chi-2-2/2029-11-17/
LOCATION:1
CATEGORIES:Community Event
END:VEVENT
BEGIN:VEVENT
DTSTART;TZID=America/New_York:20291118T090000
DTEND;TZID=America/New_York:20291118T130000
DTSTAMP:20260423T175609
CREATED:20250404T031015Z
LAST-MODIFIED:20251129T175139Z
UID:10000248-1889686800-1889701200@ardenbuzz.com
SUMMARY:Awakened Heart
DESCRIPTION:Spiritual Center \n 
URL:https://ardenbuzz.com/event/awakened-heart/2029-11-18/
LOCATION:1/2/3
CATEGORIES:Rental
END:VEVENT
BEGIN:VEVENT
DTSTART;TZID=America/New_York:20291119T090000
DTEND;TZID=America/New_York:20291119T100000
DTSTAMP:20260423T175610
CREATED:20250815T002135Z
LAST-MODIFIED:20251215T190033Z
UID:10003144-1889773200-1889776800@ardenbuzz.com
SUMMARY:Tai Chi
DESCRIPTION:
URL:https://ardenbuzz.com/event/tai-chi-2-2/2029-11-19/
LOCATION:1
CATEGORIES:Community Event
END:VEVENT
BEGIN:VEVENT
DTSTART;TZID=America/New_York:20291119T170000
DTEND;TZID=America/New_York:20291119T190000
DTSTAMP:20260423T175610
CREATED:20250404T041536Z
LAST-MODIFIED:20250404T041536Z
UID:10000590-1889802000-1889809200@ardenbuzz.com
SUMMARY:Buzz Committee
DESCRIPTION:
URL:https://ardenbuzz.com/event/buzz-committee/2029-11-19/
LOCATION:2
CATEGORIES:Committee
END:VEVENT
BEGIN:VEVENT
DTSTART;TZID=America/New_York:20291119T190000
DTEND;TZID=America/New_York:20291119T210000
DTSTAMP:20260423T175610
CREATED:20250407T210151Z
LAST-MODIFIED:20250407T210151Z
UID:10001163-1889809200-1889816400@ardenbuzz.com
SUMMARY:Art Studio
DESCRIPTION:
URL:https://ardenbuzz.com/event/art-studio/2029-11-19/
LOCATION:3
CATEGORIES:Community Event
END:VEVENT
BEGIN:VEVENT
DTSTART;TZID=America/New_York:20291121T174500
DTEND;TZID=America/New_York:20291121T220000
DTSTAMP:20260423T175610
CREATED:20250815T001731Z
LAST-MODIFIED:20251215T190352Z
UID:10004550-1889977500-1889992800@ardenbuzz.com
SUMMARY:Awakened Heart
DESCRIPTION:
URL:https://ardenbuzz.com/event/awakened-heart-3/2029-11-21/
LOCATION:3
CATEGORIES:Rental
END:VEVENT
BEGIN:VEVENT
DTSTART;TZID=America/New_York:20291122T090000
DTEND;TZID=America/New_York:20291122T100000
DTSTAMP:20260423T175610
CREATED:20250815T002135Z
LAST-MODIFIED:20251215T190033Z
UID:10003145-1890032400-1890036000@ardenbuzz.com
SUMMARY:Tai Chi
DESCRIPTION:
URL:https://ardenbuzz.com/event/tai-chi-2-2/2029-11-22/
LOCATION:1
CATEGORIES:Community Event
END:VEVENT
BEGIN:VEVENT
DTSTART;TZID=America/New_York:20291122T190000
DTEND;TZID=America/New_York:20291122T210000
DTSTAMP:20260423T175610
CREATED:20250406T160451Z
LAST-MODIFIED:20251215T203612Z
UID:10000852-1890068400-1890075600@ardenbuzz.com
SUMMARY:Qi Gong
DESCRIPTION:
URL:https://ardenbuzz.com/event/qi-gong/2029-11-22/
LOCATION:3
CATEGORIES:Rental
END:VEVENT
BEGIN:VEVENT
DTSTART;TZID=America/New_York:20291124T090000
DTEND;TZID=America/New_York:20291124T100000
DTSTAMP:20260423T175610
CREATED:20250815T002135Z
LAST-MODIFIED:20251215T190033Z
UID:10003146-1890205200-1890208800@ardenbuzz.com
SUMMARY:Tai Chi
DESCRIPTION:
URL:https://ardenbuzz.com/event/tai-chi-2-2/2029-11-24/
LOCATION:1
CATEGORIES:Community Event
END:VEVENT
BEGIN:VEVENT
DTSTART;TZID=America/New_York:20291125T090000
DTEND;TZID=America/New_York:20291125T130000
DTSTAMP:20260423T175610
CREATED:20250404T031015Z
LAST-MODIFIED:20251129T175139Z
UID:10000249-1890291600-1890306000@ardenbuzz.com
SUMMARY:Awakened Heart
DESCRIPTION:Spiritual Center \n 
URL:https://ardenbuzz.com/event/awakened-heart/2029-11-25/
LOCATION:1/2/3
CATEGORIES:Rental
END:VEVENT
BEGIN:VEVENT
DTSTART;TZID=America/New_York:20291126T090000
DTEND;TZID=America/New_York:20291126T100000
DTSTAMP:20260423T175610
CREATED:20250815T002135Z
LAST-MODIFIED:20251215T190033Z
UID:10003147-1890378000-1890381600@ardenbuzz.com
SUMMARY:Tai Chi
DESCRIPTION:
URL:https://ardenbuzz.com/event/tai-chi-2-2/2029-11-26/
LOCATION:1
CATEGORIES:Community Event
END:VEVENT
BEGIN:VEVENT
DTSTART;TZID=America/New_York:20291126T190000
DTEND;TZID=America/New_York:20291126T210000
DTSTAMP:20260423T175610
CREATED:20250407T210151Z
LAST-MODIFIED:20250407T210151Z
UID:10001164-1890414000-1890421200@ardenbuzz.com
SUMMARY:Art Studio
DESCRIPTION:
URL:https://ardenbuzz.com/event/art-studio/2029-11-26/
LOCATION:3
CATEGORIES:Community Event
END:VEVENT
BEGIN:VEVENT
DTSTART;TZID=America/New_York:20291128T174500
DTEND;TZID=America/New_York:20291128T220000
DTSTAMP:20260423T175610
CREATED:20250815T001731Z
LAST-MODIFIED:20251215T190352Z
UID:10004551-1890582300-1890597600@ardenbuzz.com
SUMMARY:Awakened Heart
DESCRIPTION:
URL:https://ardenbuzz.com/event/awakened-heart-3/2029-11-28/
LOCATION:3
CATEGORIES:Rental
END:VEVENT
BEGIN:VEVENT
DTSTART;TZID=America/New_York:20291129T090000
DTEND;TZID=America/New_York:20291129T100000
DTSTAMP:20260423T175610
CREATED:20250815T002135Z
LAST-MODIFIED:20251215T190033Z
UID:10003148-1890637200-1890640800@ardenbuzz.com
SUMMARY:Tai Chi
DESCRIPTION:
URL:https://ardenbuzz.com/event/tai-chi-2-2/2029-11-29/
LOCATION:1
CATEGORIES:Community Event
END:VEVENT
BEGIN:VEVENT
DTSTART;TZID=America/New_York:20291129T190000
DTEND;TZID=America/New_York:20291129T210000
DTSTAMP:20260423T175610
CREATED:20250406T160451Z
LAST-MODIFIED:20251215T203612Z
UID:10000853-1890673200-1890680400@ardenbuzz.com
SUMMARY:Qi Gong
DESCRIPTION:
URL:https://ardenbuzz.com/event/qi-gong/2029-11-29/
LOCATION:3
CATEGORIES:Rental
END:VEVENT
BEGIN:VEVENT
DTSTART;TZID=America/New_York:20291201T090000
DTEND;TZID=America/New_York:20291201T100000
DTSTAMP:20260423T175610
CREATED:20250815T002135Z
LAST-MODIFIED:20251215T190033Z
UID:10003149-1890810000-1890813600@ardenbuzz.com
SUMMARY:Tai Chi
DESCRIPTION:
URL:https://ardenbuzz.com/event/tai-chi-2-2/2029-12-01/
LOCATION:1
CATEGORIES:Community Event
END:VEVENT
BEGIN:VEVENT
DTSTART;TZID=America/New_York:20291202T090000
DTEND;TZID=America/New_York:20291202T130000
DTSTAMP:20260423T175610
CREATED:20250404T031015Z
LAST-MODIFIED:20251129T175139Z
UID:10000250-1890896400-1890910800@ardenbuzz.com
SUMMARY:Awakened Heart
DESCRIPTION:Spiritual Center \n 
URL:https://ardenbuzz.com/event/awakened-heart/2029-12-02/
LOCATION:1/2/3
CATEGORIES:Rental
END:VEVENT
BEGIN:VEVENT
DTSTART;TZID=America/New_York:20291203T090000
DTEND;TZID=America/New_York:20291203T100000
DTSTAMP:20260423T175610
CREATED:20250815T002135Z
LAST-MODIFIED:20251215T190033Z
UID:10003150-1890982800-1890986400@ardenbuzz.com
SUMMARY:Tai Chi
DESCRIPTION:
URL:https://ardenbuzz.com/event/tai-chi-2-2/2029-12-03/
LOCATION:1
CATEGORIES:Community Event
END:VEVENT
BEGIN:VEVENT
DTSTART;TZID=America/New_York:20291203T190000
DTEND;TZID=America/New_York:20291203T210000
DTSTAMP:20260423T175610
CREATED:20250407T210151Z
LAST-MODIFIED:20250407T210151Z
UID:10001165-1891018800-1891026000@ardenbuzz.com
SUMMARY:Art Studio
DESCRIPTION:
URL:https://ardenbuzz.com/event/art-studio/2029-12-03/
LOCATION:3
CATEGORIES:Community Event
END:VEVENT
BEGIN:VEVENT
DTSTART;TZID=America/New_York:20291204T180000
DTEND;TZID=America/New_York:20291204T190000
DTSTAMP:20260423T175610
CREATED:20250507T123951Z
LAST-MODIFIED:20250820T181033Z
UID:10002451-1891101600-1891105200@ardenbuzz.com
SUMMARY:Safety Committee
DESCRIPTION:
URL:https://ardenbuzz.com/event/safety-committee-2/2029-12-04/
LOCATION:2
CATEGORIES:Committee
END:VEVENT
BEGIN:VEVENT
DTSTART;TZID=America/New_York:20291204T190000
DTEND;TZID=America/New_York:20291204T210000
DTSTAMP:20260423T175610
CREATED:20250407T210723Z
LAST-MODIFIED:20250407T210723Z
UID:10001239-1891105200-1891112400@ardenbuzz.com
SUMMARY:Arden's Ready Meeting
DESCRIPTION:
URL:https://ardenbuzz.com/event/ardens-ready-meeting/2029-12-04/
LOCATION:1
CATEGORIES:Community Event
END:VEVENT
BEGIN:VEVENT
DTSTART;TZID=America/New_York:20291204T193000
DTEND;TZID=America/New_York:20291204T210000
DTSTAMP:20260423T175610
CREATED:20250918T152453Z
LAST-MODIFIED:20250918T152453Z
UID:10004907-1891107000-1891112400@ardenbuzz.com
SUMMARY:Civic Committee Meeting
DESCRIPTION:
URL:https://ardenbuzz.com/event/civic-committee-meeting-4/2029-12-04/
LOCATION:2
CATEGORIES:Committee
END:VEVENT
BEGIN:VEVENT
DTSTART;TZID=America/New_York:20291205T174500
DTEND;TZID=America/New_York:20291205T220000
DTSTAMP:20260423T175610
CREATED:20250815T001731Z
LAST-MODIFIED:20251215T190352Z
UID:10004552-1891187100-1891202400@ardenbuzz.com
SUMMARY:Awakened Heart
DESCRIPTION:
URL:https://ardenbuzz.com/event/awakened-heart-3/2029-12-05/
LOCATION:3
CATEGORIES:Rental
END:VEVENT
BEGIN:VEVENT
DTSTART;TZID=America/New_York:20291206T090000
DTEND;TZID=America/New_York:20291206T100000
DTSTAMP:20260423T175610
CREATED:20250815T002135Z
LAST-MODIFIED:20251215T190033Z
UID:10003151-1891242000-1891245600@ardenbuzz.com
SUMMARY:Tai Chi
DESCRIPTION:
URL:https://ardenbuzz.com/event/tai-chi-2-2/2029-12-06/
LOCATION:1
CATEGORIES:Community Event
END:VEVENT
BEGIN:VEVENT
DTSTART;TZID=America/New_York:20291206T190000
DTEND;TZID=America/New_York:20291206T210000
DTSTAMP:20260423T175610
CREATED:20250406T160451Z
LAST-MODIFIED:20251215T203612Z
UID:10000854-1891278000-1891285200@ardenbuzz.com
SUMMARY:Qi Gong
DESCRIPTION:
URL:https://ardenbuzz.com/event/qi-gong/2029-12-06/
LOCATION:3
CATEGORIES:Rental
END:VEVENT
END:VCALENDAR