BEGIN:VCALENDAR
VERSION:2.0
PRODID:-//Arden Buzz Ware - ECPv6.15.20//NONSGML v1.0//EN
CALSCALE:GREGORIAN
METHOD:PUBLISH
X-WR-CALNAME:Arden Buzz Ware
X-ORIGINAL-URL:https://ardenbuzz.com
X-WR-CALDESC:Events for Arden Buzz Ware
REFRESH-INTERVAL;VALUE=DURATION:PT1H
X-Robots-Tag:noindex
X-PUBLISHED-TTL:PT1H
BEGIN:VTIMEZONE
TZID:America/New_York
BEGIN:DAYLIGHT
TZOFFSETFROM:-0500
TZOFFSETTO:-0400
TZNAME:EDT
DTSTART:20280312T070000
END:DAYLIGHT
BEGIN:STANDARD
TZOFFSETFROM:-0400
TZOFFSETTO:-0500
TZNAME:EST
DTSTART:20281105T060000
END:STANDARD
BEGIN:DAYLIGHT
TZOFFSETFROM:-0500
TZOFFSETTO:-0400
TZNAME:EDT
DTSTART:20290311T070000
END:DAYLIGHT
BEGIN:STANDARD
TZOFFSETFROM:-0400
TZOFFSETTO:-0500
TZNAME:EST
DTSTART:20291104T060000
END:STANDARD
BEGIN:DAYLIGHT
TZOFFSETFROM:-0500
TZOFFSETTO:-0400
TZNAME:EDT
DTSTART:20300310T070000
END:DAYLIGHT
BEGIN:STANDARD
TZOFFSETFROM:-0400
TZOFFSETTO:-0500
TZNAME:EST
DTSTART:20301103T060000
END:STANDARD
END:VTIMEZONE
BEGIN:VEVENT
DTSTART;TZID=America/New_York:20291029T190000
DTEND;TZID=America/New_York:20291029T210000
DTSTAMP:20260423T140105
CREATED:20250407T210151Z
LAST-MODIFIED:20250407T210151Z
UID:10001160-1887994800-1888002000@ardenbuzz.com
SUMMARY:Art Studio
DESCRIPTION:
URL:https://ardenbuzz.com/event/art-studio/2029-10-29/
LOCATION:3
CATEGORIES:Community Event
END:VEVENT
BEGIN:VEVENT
DTSTART;TZID=America/New_York:20291031T174500
DTEND;TZID=America/New_York:20291031T220000
DTSTAMP:20260423T140105
CREATED:20250815T001731Z
LAST-MODIFIED:20251215T190352Z
UID:10004547-1888163100-1888178400@ardenbuzz.com
SUMMARY:Awakened Heart
DESCRIPTION:
URL:https://ardenbuzz.com/event/awakened-heart-3/2029-10-31/
LOCATION:3
CATEGORIES:Rental
END:VEVENT
BEGIN:VEVENT
DTSTART;TZID=America/New_York:20291101T090000
DTEND;TZID=America/New_York:20291101T100000
DTSTAMP:20260423T140105
CREATED:20250815T002135Z
LAST-MODIFIED:20251215T190033Z
UID:10003136-1888218000-1888221600@ardenbuzz.com
SUMMARY:Tai Chi
DESCRIPTION:
URL:https://ardenbuzz.com/event/tai-chi-2-2/2029-11-01/
LOCATION:1
CATEGORIES:Community Event
END:VEVENT
BEGIN:VEVENT
DTSTART;TZID=America/New_York:20291101T190000
DTEND;TZID=America/New_York:20291101T210000
DTSTAMP:20260423T140106
CREATED:20250406T160451Z
LAST-MODIFIED:20251215T203612Z
UID:10000849-1888254000-1888261200@ardenbuzz.com
SUMMARY:Qi Gong
DESCRIPTION:
URL:https://ardenbuzz.com/event/qi-gong/2029-11-01/
LOCATION:3
CATEGORIES:Rental
END:VEVENT
BEGIN:VEVENT
DTSTART;TZID=America/New_York:20291101T190000
DTEND;TZID=America/New_York:20291101T210000
DTSTAMP:20260423T140106
CREATED:20250409T154517Z
LAST-MODIFIED:20251215T184913Z
UID:10002258-1888254000-1888261200@ardenbuzz.com
SUMMARY:Playground Committee
DESCRIPTION:
URL:https://ardenbuzz.com/event/playground-committee/2029-11-01/
LOCATION:1
CATEGORIES:Committee
END:VEVENT
BEGIN:VEVENT
DTSTART;TZID=America/New_York:20291103T090000
DTEND;TZID=America/New_York:20291103T100000
DTSTAMP:20260423T140106
CREATED:20250815T002135Z
LAST-MODIFIED:20251215T190033Z
UID:10003137-1888390800-1888394400@ardenbuzz.com
SUMMARY:Tai Chi
DESCRIPTION:
URL:https://ardenbuzz.com/event/tai-chi-2-2/2029-11-03/
LOCATION:1
CATEGORIES:Community Event
END:VEVENT
BEGIN:VEVENT
DTSTART;TZID=America/New_York:20291104T090000
DTEND;TZID=America/New_York:20291104T130000
DTSTAMP:20260423T140106
CREATED:20250404T031015Z
LAST-MODIFIED:20251129T175139Z
UID:10000246-1888477200-1888491600@ardenbuzz.com
SUMMARY:Awakened Heart
DESCRIPTION:Spiritual Center \n 
URL:https://ardenbuzz.com/event/awakened-heart/2029-11-04/
LOCATION:1/2/3
CATEGORIES:Rental
END:VEVENT
BEGIN:VEVENT
DTSTART;TZID=America/New_York:20291105T090000
DTEND;TZID=America/New_York:20291105T100000
DTSTAMP:20260423T140106
CREATED:20250815T002135Z
LAST-MODIFIED:20251215T190033Z
UID:10003138-1888563600-1888567200@ardenbuzz.com
SUMMARY:Tai Chi
DESCRIPTION:
URL:https://ardenbuzz.com/event/tai-chi-2-2/2029-11-05/
LOCATION:1
CATEGORIES:Community Event
END:VEVENT
BEGIN:VEVENT
DTSTART;TZID=America/New_York:20291105T190000
DTEND;TZID=America/New_York:20291105T210000
DTSTAMP:20260423T140106
CREATED:20250407T210151Z
LAST-MODIFIED:20250407T210151Z
UID:10001161-1888599600-1888606800@ardenbuzz.com
SUMMARY:Art Studio
DESCRIPTION:
URL:https://ardenbuzz.com/event/art-studio/2029-11-05/
LOCATION:3
CATEGORIES:Community Event
END:VEVENT
BEGIN:VEVENT
DTSTART;TZID=America/New_York:20291106T180000
DTEND;TZID=America/New_York:20291106T190000
DTSTAMP:20260423T140106
CREATED:20250507T123951Z
LAST-MODIFIED:20250820T181033Z
UID:10002450-1888682400-1888686000@ardenbuzz.com
SUMMARY:Safety Committee
DESCRIPTION:
URL:https://ardenbuzz.com/event/safety-committee-2/2029-11-06/
LOCATION:2
CATEGORIES:Committee
END:VEVENT
BEGIN:VEVENT
DTSTART;TZID=America/New_York:20291106T190000
DTEND;TZID=America/New_York:20291106T210000
DTSTAMP:20260423T140106
CREATED:20250407T210723Z
LAST-MODIFIED:20250407T210723Z
UID:10001238-1888686000-1888693200@ardenbuzz.com
SUMMARY:Arden's Ready Meeting
DESCRIPTION:
URL:https://ardenbuzz.com/event/ardens-ready-meeting/2029-11-06/
LOCATION:1
CATEGORIES:Community Event
END:VEVENT
BEGIN:VEVENT
DTSTART;TZID=America/New_York:20291106T193000
DTEND;TZID=America/New_York:20291106T210000
DTSTAMP:20260423T140106
CREATED:20250918T152453Z
LAST-MODIFIED:20250918T152453Z
UID:10004906-1888687800-1888693200@ardenbuzz.com
SUMMARY:Civic Committee Meeting
DESCRIPTION:
URL:https://ardenbuzz.com/event/civic-committee-meeting-4/2029-11-06/
LOCATION:2
CATEGORIES:Committee
END:VEVENT
BEGIN:VEVENT
DTSTART;TZID=America/New_York:20291107T174500
DTEND;TZID=America/New_York:20291107T220000
DTSTAMP:20260423T140106
CREATED:20250815T001731Z
LAST-MODIFIED:20251215T190352Z
UID:10004548-1888767900-1888783200@ardenbuzz.com
SUMMARY:Awakened Heart
DESCRIPTION:
URL:https://ardenbuzz.com/event/awakened-heart-3/2029-11-07/
LOCATION:3
CATEGORIES:Rental
END:VEVENT
BEGIN:VEVENT
DTSTART;TZID=America/New_York:20291108T090000
DTEND;TZID=America/New_York:20291108T100000
DTSTAMP:20260423T140106
CREATED:20250815T002135Z
LAST-MODIFIED:20251215T190033Z
UID:10003139-1888822800-1888826400@ardenbuzz.com
SUMMARY:Tai Chi
DESCRIPTION:
URL:https://ardenbuzz.com/event/tai-chi-2-2/2029-11-08/
LOCATION:1
CATEGORIES:Community Event
END:VEVENT
BEGIN:VEVENT
DTSTART;TZID=America/New_York:20291108T190000
DTEND;TZID=America/New_York:20291108T210000
DTSTAMP:20260423T140106
CREATED:20250406T160451Z
LAST-MODIFIED:20251215T203612Z
UID:10000850-1888858800-1888866000@ardenbuzz.com
SUMMARY:Qi Gong
DESCRIPTION:
URL:https://ardenbuzz.com/event/qi-gong/2029-11-08/
LOCATION:3
CATEGORIES:Rental
END:VEVENT
BEGIN:VEVENT
DTSTART;TZID=America/New_York:20291110T090000
DTEND;TZID=America/New_York:20291110T100000
DTSTAMP:20260423T140106
CREATED:20250815T002135Z
LAST-MODIFIED:20251215T190033Z
UID:10003140-1888995600-1888999200@ardenbuzz.com
SUMMARY:Tai Chi
DESCRIPTION:
URL:https://ardenbuzz.com/event/tai-chi-2-2/2029-11-10/
LOCATION:1
CATEGORIES:Community Event
END:VEVENT
BEGIN:VEVENT
DTSTART;TZID=America/New_York:20291111T090000
DTEND;TZID=America/New_York:20291111T130000
DTSTAMP:20260423T140106
CREATED:20250404T031015Z
LAST-MODIFIED:20251129T175139Z
UID:10000247-1889082000-1889096400@ardenbuzz.com
SUMMARY:Awakened Heart
DESCRIPTION:Spiritual Center \n 
URL:https://ardenbuzz.com/event/awakened-heart/2029-11-11/
LOCATION:1/2/3
CATEGORIES:Rental
END:VEVENT
BEGIN:VEVENT
DTSTART;TZID=America/New_York:20291112T090000
DTEND;TZID=America/New_York:20291112T100000
DTSTAMP:20260423T140106
CREATED:20250815T002135Z
LAST-MODIFIED:20251215T190033Z
UID:10003141-1889168400-1889172000@ardenbuzz.com
SUMMARY:Tai Chi
DESCRIPTION:
URL:https://ardenbuzz.com/event/tai-chi-2-2/2029-11-12/
LOCATION:1
CATEGORIES:Community Event
END:VEVENT
BEGIN:VEVENT
DTSTART;TZID=America/New_York:20291112T190000
DTEND;TZID=America/New_York:20291112T210000
DTSTAMP:20260423T140106
CREATED:20250407T210151Z
LAST-MODIFIED:20250407T210151Z
UID:10001162-1889204400-1889211600@ardenbuzz.com
SUMMARY:Art Studio
DESCRIPTION:
URL:https://ardenbuzz.com/event/art-studio/2029-11-12/
LOCATION:3
CATEGORIES:Community Event
END:VEVENT
BEGIN:VEVENT
DTSTART;TZID=America/New_York:20291112T190000
DTEND;TZID=America/New_York:20291112T210000
DTSTAMP:20260423T140106
CREATED:20250409T154347Z
LAST-MODIFIED:20250409T154347Z
UID:10002197-1889204400-1889211600@ardenbuzz.com
SUMMARY:Forest Committee
DESCRIPTION:
URL:https://ardenbuzz.com/event/forest-committee/2029-11-12/
LOCATION:1
CATEGORIES:Committee
END:VEVENT
BEGIN:VEVENT
DTSTART;TZID=America/New_York:20291113T180000
DTEND;TZID=America/New_York:20291113T190000
DTSTAMP:20260423T140106
CREATED:20260109T044115Z
LAST-MODIFIED:20260109T044115Z
UID:10005254-1889287200-1889290800@ardenbuzz.com
SUMMARY:Playground Committee
DESCRIPTION:
URL:https://ardenbuzz.com/event/playground-committee-3/2029-11-13/
LOCATION:2
CATEGORIES:Committee
END:VEVENT
BEGIN:VEVENT
DTSTART;TZID=America/New_York:20291113T193000
DTEND;TZID=America/New_York:20291113T210000
DTSTAMP:20260423T140106
CREATED:20250430T151450Z
LAST-MODIFIED:20250430T151450Z
UID:10002385-1889292600-1889298000@ardenbuzz.com
SUMMARY:Community Planning Committee
DESCRIPTION:
URL:https://ardenbuzz.com/event/community-planning-committee-3/2029-11-13/
LOCATION:2
CATEGORIES:Committee
END:VEVENT
BEGIN:VEVENT
DTSTART;TZID=America/New_York:20291114T174500
DTEND;TZID=America/New_York:20291114T220000
DTSTAMP:20260423T140106
CREATED:20250815T001731Z
LAST-MODIFIED:20251215T190352Z
UID:10004549-1889372700-1889388000@ardenbuzz.com
SUMMARY:Awakened Heart
DESCRIPTION:
URL:https://ardenbuzz.com/event/awakened-heart-3/2029-11-14/
LOCATION:3
CATEGORIES:Rental
END:VEVENT
BEGIN:VEVENT
DTSTART;TZID=America/New_York:20291114T193000
DTEND;TZID=America/New_York:20291114T213000
DTSTAMP:20260423T140106
CREATED:20250818T175109Z
LAST-MODIFIED:20260422T144409Z
UID:10004714-1889379000-1889386200@ardenbuzz.com
SUMMARY:Community Planning Committee
DESCRIPTION:
URL:https://ardenbuzz.com/event/community-planning-committee-5/2029-11-14/
LOCATION:2
CATEGORIES:Committee
END:VEVENT
BEGIN:VEVENT
DTSTART;TZID=America/New_York:20291115T090000
DTEND;TZID=America/New_York:20291115T100000
DTSTAMP:20260423T140106
CREATED:20250815T002135Z
LAST-MODIFIED:20251215T190033Z
UID:10003142-1889427600-1889431200@ardenbuzz.com
SUMMARY:Tai Chi
DESCRIPTION:
URL:https://ardenbuzz.com/event/tai-chi-2-2/2029-11-15/
LOCATION:1
CATEGORIES:Community Event
END:VEVENT
BEGIN:VEVENT
DTSTART;TZID=America/New_York:20291115T190000
DTEND;TZID=America/New_York:20291115T210000
DTSTAMP:20260423T140106
CREATED:20250406T160451Z
LAST-MODIFIED:20251215T203612Z
UID:10000851-1889463600-1889470800@ardenbuzz.com
SUMMARY:Qi Gong
DESCRIPTION:
URL:https://ardenbuzz.com/event/qi-gong/2029-11-15/
LOCATION:3
CATEGORIES:Rental
END:VEVENT
BEGIN:VEVENT
DTSTART;TZID=America/New_York:20291117T090000
DTEND;TZID=America/New_York:20291117T100000
DTSTAMP:20260423T140106
CREATED:20250815T002135Z
LAST-MODIFIED:20251215T190033Z
UID:10003143-1889600400-1889604000@ardenbuzz.com
SUMMARY:Tai Chi
DESCRIPTION:
URL:https://ardenbuzz.com/event/tai-chi-2-2/2029-11-17/
LOCATION:1
CATEGORIES:Community Event
END:VEVENT
BEGIN:VEVENT
DTSTART;TZID=America/New_York:20291118T090000
DTEND;TZID=America/New_York:20291118T130000
DTSTAMP:20260423T140106
CREATED:20250404T031015Z
LAST-MODIFIED:20251129T175139Z
UID:10000248-1889686800-1889701200@ardenbuzz.com
SUMMARY:Awakened Heart
DESCRIPTION:Spiritual Center \n 
URL:https://ardenbuzz.com/event/awakened-heart/2029-11-18/
LOCATION:1/2/3
CATEGORIES:Rental
END:VEVENT
BEGIN:VEVENT
DTSTART;TZID=America/New_York:20291119T090000
DTEND;TZID=America/New_York:20291119T100000
DTSTAMP:20260423T140106
CREATED:20250815T002135Z
LAST-MODIFIED:20251215T190033Z
UID:10003144-1889773200-1889776800@ardenbuzz.com
SUMMARY:Tai Chi
DESCRIPTION:
URL:https://ardenbuzz.com/event/tai-chi-2-2/2029-11-19/
LOCATION:1
CATEGORIES:Community Event
END:VEVENT
BEGIN:VEVENT
DTSTART;TZID=America/New_York:20291119T170000
DTEND;TZID=America/New_York:20291119T190000
DTSTAMP:20260423T140106
CREATED:20250404T041536Z
LAST-MODIFIED:20250404T041536Z
UID:10000590-1889802000-1889809200@ardenbuzz.com
SUMMARY:Buzz Committee
DESCRIPTION:
URL:https://ardenbuzz.com/event/buzz-committee/2029-11-19/
LOCATION:2
CATEGORIES:Committee
END:VEVENT
END:VCALENDAR