BEGIN:VCALENDAR
VERSION:2.0
PRODID:-//Arden Buzz Ware - ECPv6.15.20//NONSGML v1.0//EN
CALSCALE:GREGORIAN
METHOD:PUBLISH
X-WR-CALNAME:Arden Buzz Ware
X-ORIGINAL-URL:https://ardenbuzz.com
X-WR-CALDESC:Events for Arden Buzz Ware
REFRESH-INTERVAL;VALUE=DURATION:PT1H
X-Robots-Tag:noindex
X-PUBLISHED-TTL:PT1H
BEGIN:VTIMEZONE
TZID:America/New_York
BEGIN:DAYLIGHT
TZOFFSETFROM:-0500
TZOFFSETTO:-0400
TZNAME:EDT
DTSTART:20280312T070000
END:DAYLIGHT
BEGIN:STANDARD
TZOFFSETFROM:-0400
TZOFFSETTO:-0500
TZNAME:EST
DTSTART:20281105T060000
END:STANDARD
BEGIN:DAYLIGHT
TZOFFSETFROM:-0500
TZOFFSETTO:-0400
TZNAME:EDT
DTSTART:20290311T070000
END:DAYLIGHT
BEGIN:STANDARD
TZOFFSETFROM:-0400
TZOFFSETTO:-0500
TZNAME:EST
DTSTART:20291104T060000
END:STANDARD
BEGIN:DAYLIGHT
TZOFFSETFROM:-0500
TZOFFSETTO:-0400
TZNAME:EDT
DTSTART:20300310T070000
END:DAYLIGHT
BEGIN:STANDARD
TZOFFSETFROM:-0400
TZOFFSETTO:-0500
TZNAME:EST
DTSTART:20301103T060000
END:STANDARD
END:VTIMEZONE
BEGIN:VEVENT
DTSTART;TZID=America/New_York:20291002T190000
DTEND;TZID=America/New_York:20291002T210000
DTSTAMP:20260423T065500
CREATED:20250407T210723Z
LAST-MODIFIED:20250407T210723Z
UID:10001237-1885662000-1885669200@ardenbuzz.com
SUMMARY:Arden's Ready Meeting
DESCRIPTION:
URL:https://ardenbuzz.com/event/ardens-ready-meeting/2029-10-02/
LOCATION:1
CATEGORIES:Community Event
END:VEVENT
BEGIN:VEVENT
DTSTART;TZID=America/New_York:20291002T193000
DTEND;TZID=America/New_York:20291002T210000
DTSTAMP:20260423T065500
CREATED:20250918T152453Z
LAST-MODIFIED:20250918T152453Z
UID:10004905-1885663800-1885669200@ardenbuzz.com
SUMMARY:Civic Committee Meeting
DESCRIPTION:
URL:https://ardenbuzz.com/event/civic-committee-meeting-4/2029-10-02/
LOCATION:2
CATEGORIES:Committee
END:VEVENT
BEGIN:VEVENT
DTSTART;TZID=America/New_York:20291003T174500
DTEND;TZID=America/New_York:20291003T220000
DTSTAMP:20260423T065500
CREATED:20250815T001731Z
LAST-MODIFIED:20251215T190352Z
UID:10004543-1885743900-1885759200@ardenbuzz.com
SUMMARY:Awakened Heart
DESCRIPTION:
URL:https://ardenbuzz.com/event/awakened-heart-3/2029-10-03/
LOCATION:3
CATEGORIES:Rental
END:VEVENT
BEGIN:VEVENT
DTSTART;TZID=America/New_York:20291004T090000
DTEND;TZID=America/New_York:20291004T100000
DTSTAMP:20260423T065500
CREATED:20250815T002135Z
LAST-MODIFIED:20251215T190033Z
UID:10003124-1885798800-1885802400@ardenbuzz.com
SUMMARY:Tai Chi
DESCRIPTION:
URL:https://ardenbuzz.com/event/tai-chi-2-2/2029-10-04/
LOCATION:1
CATEGORIES:Community Event
END:VEVENT
BEGIN:VEVENT
DTSTART;TZID=America/New_York:20291004T190000
DTEND;TZID=America/New_York:20291004T210000
DTSTAMP:20260423T065500
CREATED:20250406T160451Z
LAST-MODIFIED:20251215T203612Z
UID:10000845-1885834800-1885842000@ardenbuzz.com
SUMMARY:Qi Gong
DESCRIPTION:
URL:https://ardenbuzz.com/event/qi-gong/2029-10-04/
LOCATION:3
CATEGORIES:Rental
END:VEVENT
BEGIN:VEVENT
DTSTART;TZID=America/New_York:20291004T190000
DTEND;TZID=America/New_York:20291004T210000
DTSTAMP:20260423T065500
CREATED:20250409T154517Z
LAST-MODIFIED:20251215T184913Z
UID:10002257-1885834800-1885842000@ardenbuzz.com
SUMMARY:Playground Committee
DESCRIPTION:
URL:https://ardenbuzz.com/event/playground-committee/2029-10-04/
LOCATION:1
CATEGORIES:Committee
END:VEVENT
BEGIN:VEVENT
DTSTART;TZID=America/New_York:20291006T090000
DTEND;TZID=America/New_York:20291006T100000
DTSTAMP:20260423T065500
CREATED:20250815T002135Z
LAST-MODIFIED:20251215T190033Z
UID:10003125-1885971600-1885975200@ardenbuzz.com
SUMMARY:Tai Chi
DESCRIPTION:
URL:https://ardenbuzz.com/event/tai-chi-2-2/2029-10-06/
LOCATION:1
CATEGORIES:Community Event
END:VEVENT
BEGIN:VEVENT
DTSTART;TZID=America/New_York:20291007T090000
DTEND;TZID=America/New_York:20291007T130000
DTSTAMP:20260423T065500
CREATED:20250404T031015Z
LAST-MODIFIED:20251129T175139Z
UID:10000242-1886058000-1886072400@ardenbuzz.com
SUMMARY:Awakened Heart
DESCRIPTION:Spiritual Center \n 
URL:https://ardenbuzz.com/event/awakened-heart/2029-10-07/
LOCATION:1/2/3
CATEGORIES:Rental
END:VEVENT
BEGIN:VEVENT
DTSTART;TZID=America/New_York:20291008T090000
DTEND;TZID=America/New_York:20291008T100000
DTSTAMP:20260423T065500
CREATED:20250815T002135Z
LAST-MODIFIED:20251215T190033Z
UID:10003126-1886144400-1886148000@ardenbuzz.com
SUMMARY:Tai Chi
DESCRIPTION:
URL:https://ardenbuzz.com/event/tai-chi-2-2/2029-10-08/
LOCATION:1
CATEGORIES:Community Event
END:VEVENT
BEGIN:VEVENT
DTSTART;TZID=America/New_York:20291008T190000
DTEND;TZID=America/New_York:20291008T210000
DTSTAMP:20260423T065500
CREATED:20250407T210151Z
LAST-MODIFIED:20250407T210151Z
UID:10001157-1886180400-1886187600@ardenbuzz.com
SUMMARY:Art Studio
DESCRIPTION:
URL:https://ardenbuzz.com/event/art-studio/2029-10-08/
LOCATION:3
CATEGORIES:Community Event
END:VEVENT
BEGIN:VEVENT
DTSTART;TZID=America/New_York:20291008T190000
DTEND;TZID=America/New_York:20291008T210000
DTSTAMP:20260423T065500
CREATED:20250409T154347Z
LAST-MODIFIED:20250409T154347Z
UID:10002196-1886180400-1886187600@ardenbuzz.com
SUMMARY:Forest Committee
DESCRIPTION:
URL:https://ardenbuzz.com/event/forest-committee/2029-10-08/
LOCATION:1
CATEGORIES:Committee
END:VEVENT
BEGIN:VEVENT
DTSTART;TZID=America/New_York:20291009T180000
DTEND;TZID=America/New_York:20291009T190000
DTSTAMP:20260423T065500
CREATED:20260109T044115Z
LAST-MODIFIED:20260109T044115Z
UID:10005253-1886263200-1886266800@ardenbuzz.com
SUMMARY:Playground Committee
DESCRIPTION:
URL:https://ardenbuzz.com/event/playground-committee-3/2029-10-09/
LOCATION:2
CATEGORIES:Committee
END:VEVENT
BEGIN:VEVENT
DTSTART;TZID=America/New_York:20291009T193000
DTEND;TZID=America/New_York:20291009T210000
DTSTAMP:20260423T065500
CREATED:20250430T151450Z
LAST-MODIFIED:20250430T151450Z
UID:10002384-1886268600-1886274000@ardenbuzz.com
SUMMARY:Community Planning Committee
DESCRIPTION:
URL:https://ardenbuzz.com/event/community-planning-committee-3/2029-10-09/
LOCATION:2
CATEGORIES:Committee
END:VEVENT
BEGIN:VEVENT
DTSTART;TZID=America/New_York:20291010T174500
DTEND;TZID=America/New_York:20291010T220000
DTSTAMP:20260423T065500
CREATED:20250815T001731Z
LAST-MODIFIED:20251215T190352Z
UID:10004544-1886348700-1886364000@ardenbuzz.com
SUMMARY:Awakened Heart
DESCRIPTION:
URL:https://ardenbuzz.com/event/awakened-heart-3/2029-10-10/
LOCATION:3
CATEGORIES:Rental
END:VEVENT
BEGIN:VEVENT
DTSTART;TZID=America/New_York:20291010T193000
DTEND;TZID=America/New_York:20291010T213000
DTSTAMP:20260423T065500
CREATED:20250818T175109Z
LAST-MODIFIED:20260422T144409Z
UID:10004713-1886355000-1886362200@ardenbuzz.com
SUMMARY:Community Planning Committee
DESCRIPTION:
URL:https://ardenbuzz.com/event/community-planning-committee-5/2029-10-10/
LOCATION:2
CATEGORIES:Committee
END:VEVENT
BEGIN:VEVENT
DTSTART;TZID=America/New_York:20291011T090000
DTEND;TZID=America/New_York:20291011T100000
DTSTAMP:20260423T065500
CREATED:20250815T002135Z
LAST-MODIFIED:20251215T190033Z
UID:10003127-1886403600-1886407200@ardenbuzz.com
SUMMARY:Tai Chi
DESCRIPTION:
URL:https://ardenbuzz.com/event/tai-chi-2-2/2029-10-11/
LOCATION:1
CATEGORIES:Community Event
END:VEVENT
BEGIN:VEVENT
DTSTART;TZID=America/New_York:20291011T190000
DTEND;TZID=America/New_York:20291011T210000
DTSTAMP:20260423T065500
CREATED:20250406T160451Z
LAST-MODIFIED:20251215T203612Z
UID:10000846-1886439600-1886446800@ardenbuzz.com
SUMMARY:Qi Gong
DESCRIPTION:
URL:https://ardenbuzz.com/event/qi-gong/2029-10-11/
LOCATION:3
CATEGORIES:Rental
END:VEVENT
BEGIN:VEVENT
DTSTART;TZID=America/New_York:20291013T090000
DTEND;TZID=America/New_York:20291013T100000
DTSTAMP:20260423T065500
CREATED:20250815T002135Z
LAST-MODIFIED:20251215T190033Z
UID:10003128-1886576400-1886580000@ardenbuzz.com
SUMMARY:Tai Chi
DESCRIPTION:
URL:https://ardenbuzz.com/event/tai-chi-2-2/2029-10-13/
LOCATION:1
CATEGORIES:Community Event
END:VEVENT
BEGIN:VEVENT
DTSTART;TZID=America/New_York:20291014T090000
DTEND;TZID=America/New_York:20291014T130000
DTSTAMP:20260423T065500
CREATED:20250404T031015Z
LAST-MODIFIED:20251129T175139Z
UID:10000243-1886662800-1886677200@ardenbuzz.com
SUMMARY:Awakened Heart
DESCRIPTION:Spiritual Center \n 
URL:https://ardenbuzz.com/event/awakened-heart/2029-10-14/
LOCATION:1/2/3
CATEGORIES:Rental
END:VEVENT
BEGIN:VEVENT
DTSTART;TZID=America/New_York:20291015T090000
DTEND;TZID=America/New_York:20291015T100000
DTSTAMP:20260423T065500
CREATED:20250815T002135Z
LAST-MODIFIED:20251215T190033Z
UID:10003129-1886749200-1886752800@ardenbuzz.com
SUMMARY:Tai Chi
DESCRIPTION:
URL:https://ardenbuzz.com/event/tai-chi-2-2/2029-10-15/
LOCATION:1
CATEGORIES:Community Event
END:VEVENT
BEGIN:VEVENT
DTSTART;TZID=America/New_York:20291015T170000
DTEND;TZID=America/New_York:20291015T190000
DTSTAMP:20260423T065501
CREATED:20250404T041536Z
LAST-MODIFIED:20250404T041536Z
UID:10000589-1886778000-1886785200@ardenbuzz.com
SUMMARY:Buzz Committee
DESCRIPTION:
URL:https://ardenbuzz.com/event/buzz-committee/2029-10-15/
LOCATION:2
CATEGORIES:Committee
END:VEVENT
BEGIN:VEVENT
DTSTART;TZID=America/New_York:20291015T190000
DTEND;TZID=America/New_York:20291015T210000
DTSTAMP:20260423T065501
CREATED:20250407T210151Z
LAST-MODIFIED:20250407T210151Z
UID:10001158-1886785200-1886792400@ardenbuzz.com
SUMMARY:Art Studio
DESCRIPTION:
URL:https://ardenbuzz.com/event/art-studio/2029-10-15/
LOCATION:3
CATEGORIES:Community Event
END:VEVENT
BEGIN:VEVENT
DTSTART;TZID=America/New_York:20291017T174500
DTEND;TZID=America/New_York:20291017T220000
DTSTAMP:20260423T065501
CREATED:20250815T001731Z
LAST-MODIFIED:20251215T190352Z
UID:10004545-1886953500-1886968800@ardenbuzz.com
SUMMARY:Awakened Heart
DESCRIPTION:
URL:https://ardenbuzz.com/event/awakened-heart-3/2029-10-17/
LOCATION:3
CATEGORIES:Rental
END:VEVENT
BEGIN:VEVENT
DTSTART;TZID=America/New_York:20291018T090000
DTEND;TZID=America/New_York:20291018T100000
DTSTAMP:20260423T065501
CREATED:20250815T002135Z
LAST-MODIFIED:20251215T190033Z
UID:10003130-1887008400-1887012000@ardenbuzz.com
SUMMARY:Tai Chi
DESCRIPTION:
URL:https://ardenbuzz.com/event/tai-chi-2-2/2029-10-18/
LOCATION:1
CATEGORIES:Community Event
END:VEVENT
BEGIN:VEVENT
DTSTART;TZID=America/New_York:20291018T190000
DTEND;TZID=America/New_York:20291018T210000
DTSTAMP:20260423T065501
CREATED:20250406T160451Z
LAST-MODIFIED:20251215T203612Z
UID:10000847-1887044400-1887051600@ardenbuzz.com
SUMMARY:Qi Gong
DESCRIPTION:
URL:https://ardenbuzz.com/event/qi-gong/2029-10-18/
LOCATION:3
CATEGORIES:Rental
END:VEVENT
BEGIN:VEVENT
DTSTART;TZID=America/New_York:20291020T090000
DTEND;TZID=America/New_York:20291020T100000
DTSTAMP:20260423T065501
CREATED:20250815T002135Z
LAST-MODIFIED:20251215T190033Z
UID:10003131-1887181200-1887184800@ardenbuzz.com
SUMMARY:Tai Chi
DESCRIPTION:
URL:https://ardenbuzz.com/event/tai-chi-2-2/2029-10-20/
LOCATION:1
CATEGORIES:Community Event
END:VEVENT
BEGIN:VEVENT
DTSTART;TZID=America/New_York:20291021T090000
DTEND;TZID=America/New_York:20291021T130000
DTSTAMP:20260423T065501
CREATED:20250404T031015Z
LAST-MODIFIED:20251129T175139Z
UID:10000244-1887267600-1887282000@ardenbuzz.com
SUMMARY:Awakened Heart
DESCRIPTION:Spiritual Center \n 
URL:https://ardenbuzz.com/event/awakened-heart/2029-10-21/
LOCATION:1/2/3
CATEGORIES:Rental
END:VEVENT
BEGIN:VEVENT
DTSTART;TZID=America/New_York:20291022T090000
DTEND;TZID=America/New_York:20291022T100000
DTSTAMP:20260423T065501
CREATED:20250815T002135Z
LAST-MODIFIED:20251215T190033Z
UID:10003132-1887354000-1887357600@ardenbuzz.com
SUMMARY:Tai Chi
DESCRIPTION:
URL:https://ardenbuzz.com/event/tai-chi-2-2/2029-10-22/
LOCATION:1
CATEGORIES:Community Event
END:VEVENT
BEGIN:VEVENT
DTSTART;TZID=America/New_York:20291022T190000
DTEND;TZID=America/New_York:20291022T210000
DTSTAMP:20260423T065501
CREATED:20250407T210151Z
LAST-MODIFIED:20250407T210151Z
UID:10001159-1887390000-1887397200@ardenbuzz.com
SUMMARY:Art Studio
DESCRIPTION:
URL:https://ardenbuzz.com/event/art-studio/2029-10-22/
LOCATION:3
CATEGORIES:Community Event
END:VEVENT
BEGIN:VEVENT
DTSTART;TZID=America/New_York:20291024T174500
DTEND;TZID=America/New_York:20291024T220000
DTSTAMP:20260423T065501
CREATED:20250815T001731Z
LAST-MODIFIED:20251215T190352Z
UID:10004546-1887558300-1887573600@ardenbuzz.com
SUMMARY:Awakened Heart
DESCRIPTION:
URL:https://ardenbuzz.com/event/awakened-heart-3/2029-10-24/
LOCATION:3
CATEGORIES:Rental
END:VEVENT
END:VCALENDAR