BEGIN:VCALENDAR
VERSION:2.0
PRODID:-//Arden Buzz Ware - ECPv6.15.20//NONSGML v1.0//EN
CALSCALE:GREGORIAN
METHOD:PUBLISH
X-WR-CALNAME:Arden Buzz Ware
X-ORIGINAL-URL:https://ardenbuzz.com
X-WR-CALDESC:Events for Arden Buzz Ware
REFRESH-INTERVAL;VALUE=DURATION:PT1H
X-Robots-Tag:noindex
X-PUBLISHED-TTL:PT1H
BEGIN:VTIMEZONE
TZID:America/New_York
BEGIN:DAYLIGHT
TZOFFSETFROM:-0500
TZOFFSETTO:-0400
TZNAME:EDT
DTSTART:20280312T070000
END:DAYLIGHT
BEGIN:STANDARD
TZOFFSETFROM:-0400
TZOFFSETTO:-0500
TZNAME:EST
DTSTART:20281105T060000
END:STANDARD
BEGIN:DAYLIGHT
TZOFFSETFROM:-0500
TZOFFSETTO:-0400
TZNAME:EDT
DTSTART:20290311T070000
END:DAYLIGHT
BEGIN:STANDARD
TZOFFSETFROM:-0400
TZOFFSETTO:-0500
TZNAME:EST
DTSTART:20291104T060000
END:STANDARD
BEGIN:DAYLIGHT
TZOFFSETFROM:-0500
TZOFFSETTO:-0400
TZNAME:EDT
DTSTART:20300310T070000
END:DAYLIGHT
BEGIN:STANDARD
TZOFFSETFROM:-0400
TZOFFSETTO:-0500
TZNAME:EST
DTSTART:20301103T060000
END:STANDARD
END:VTIMEZONE
BEGIN:VEVENT
DTSTART;TZID=America/New_York:20290808T193000
DTEND;TZID=America/New_York:20290808T213000
DTSTAMP:20260420T160503
CREATED:20250818T175109Z
LAST-MODIFIED:20260109T043220Z
UID:10004711-1880911800-1880919000@ardenbuzz.com
SUMMARY:Community Planning Committee
DESCRIPTION:
URL:https://ardenbuzz.com/event/community-planning-committee-5/2029-08-08/
LOCATION:2
CATEGORIES:Committee
END:VEVENT
BEGIN:VEVENT
DTSTART;TZID=America/New_York:20290809T090000
DTEND;TZID=America/New_York:20290809T100000
DTSTAMP:20260420T160503
CREATED:20250815T002135Z
LAST-MODIFIED:20251215T190033Z
UID:10003100-1880960400-1880964000@ardenbuzz.com
SUMMARY:Tai Chi
DESCRIPTION:
URL:https://ardenbuzz.com/event/tai-chi-2-2/2029-08-09/
LOCATION:1
CATEGORIES:Community Event
END:VEVENT
BEGIN:VEVENT
DTSTART;TZID=America/New_York:20290809T190000
DTEND;TZID=America/New_York:20290809T210000
DTSTAMP:20260420T160503
CREATED:20250406T160451Z
LAST-MODIFIED:20251215T203612Z
UID:10000837-1880996400-1881003600@ardenbuzz.com
SUMMARY:Qi Gong
DESCRIPTION:
URL:https://ardenbuzz.com/event/qi-gong/2029-08-09/
LOCATION:3
CATEGORIES:Rental
END:VEVENT
BEGIN:VEVENT
DTSTART;TZID=America/New_York:20290811T090000
DTEND;TZID=America/New_York:20290811T100000
DTSTAMP:20260420T160503
CREATED:20250815T002135Z
LAST-MODIFIED:20251215T190033Z
UID:10003101-1881133200-1881136800@ardenbuzz.com
SUMMARY:Tai Chi
DESCRIPTION:
URL:https://ardenbuzz.com/event/tai-chi-2-2/2029-08-11/
LOCATION:1
CATEGORIES:Community Event
END:VEVENT
BEGIN:VEVENT
DTSTART;TZID=America/New_York:20290812T090000
DTEND;TZID=America/New_York:20290812T130000
DTSTAMP:20260420T160503
CREATED:20250404T031015Z
LAST-MODIFIED:20251129T175139Z
UID:10000234-1881219600-1881234000@ardenbuzz.com
SUMMARY:Awakened Heart
DESCRIPTION:Spiritual Center \n 
URL:https://ardenbuzz.com/event/awakened-heart/2029-08-12/
LOCATION:1/2/3
CATEGORIES:Rental
END:VEVENT
BEGIN:VEVENT
DTSTART;TZID=America/New_York:20290813T090000
DTEND;TZID=America/New_York:20290813T100000
DTSTAMP:20260420T160503
CREATED:20250815T002135Z
LAST-MODIFIED:20251215T190033Z
UID:10003102-1881306000-1881309600@ardenbuzz.com
SUMMARY:Tai Chi
DESCRIPTION:
URL:https://ardenbuzz.com/event/tai-chi-2-2/2029-08-13/
LOCATION:1
CATEGORIES:Community Event
END:VEVENT
BEGIN:VEVENT
DTSTART;TZID=America/New_York:20290813T190000
DTEND;TZID=America/New_York:20290813T210000
DTSTAMP:20260420T160503
CREATED:20250407T210151Z
LAST-MODIFIED:20250407T210151Z
UID:10001149-1881342000-1881349200@ardenbuzz.com
SUMMARY:Art Studio
DESCRIPTION:
URL:https://ardenbuzz.com/event/art-studio/2029-08-13/
LOCATION:3
CATEGORIES:Community Event
END:VEVENT
BEGIN:VEVENT
DTSTART;TZID=America/New_York:20290813T190000
DTEND;TZID=America/New_York:20290813T210000
DTSTAMP:20260420T160503
CREATED:20250409T154347Z
LAST-MODIFIED:20250409T154347Z
UID:10002194-1881342000-1881349200@ardenbuzz.com
SUMMARY:Forest Committee
DESCRIPTION:
URL:https://ardenbuzz.com/event/forest-committee/2029-08-13/
LOCATION:1
CATEGORIES:Committee
END:VEVENT
BEGIN:VEVENT
DTSTART;TZID=America/New_York:20290814T180000
DTEND;TZID=America/New_York:20290814T190000
DTSTAMP:20260420T160503
CREATED:20260109T044115Z
LAST-MODIFIED:20260109T044115Z
UID:10005251-1881424800-1881428400@ardenbuzz.com
SUMMARY:Playground Committee
DESCRIPTION:
URL:https://ardenbuzz.com/event/playground-committee-3/2029-08-14/
LOCATION:2
CATEGORIES:Committee
END:VEVENT
BEGIN:VEVENT
DTSTART;TZID=America/New_York:20290814T193000
DTEND;TZID=America/New_York:20290814T210000
DTSTAMP:20260420T160503
CREATED:20250430T151450Z
LAST-MODIFIED:20250430T151450Z
UID:10002382-1881430200-1881435600@ardenbuzz.com
SUMMARY:Community Planning Committee
DESCRIPTION:
URL:https://ardenbuzz.com/event/community-planning-committee-3/2029-08-14/
LOCATION:2
CATEGORIES:Committee
END:VEVENT
BEGIN:VEVENT
DTSTART;TZID=America/New_York:20290815T174500
DTEND;TZID=America/New_York:20290815T220000
DTSTAMP:20260420T160503
CREATED:20250815T001731Z
LAST-MODIFIED:20251215T190352Z
UID:10004536-1881510300-1881525600@ardenbuzz.com
SUMMARY:Awakened Heart
DESCRIPTION:
URL:https://ardenbuzz.com/event/awakened-heart-3/2029-08-15/
LOCATION:3
CATEGORIES:Rental
END:VEVENT
BEGIN:VEVENT
DTSTART;TZID=America/New_York:20290816T090000
DTEND;TZID=America/New_York:20290816T100000
DTSTAMP:20260420T160503
CREATED:20250815T002135Z
LAST-MODIFIED:20251215T190033Z
UID:10003103-1881565200-1881568800@ardenbuzz.com
SUMMARY:Tai Chi
DESCRIPTION:
URL:https://ardenbuzz.com/event/tai-chi-2-2/2029-08-16/
LOCATION:1
CATEGORIES:Community Event
END:VEVENT
BEGIN:VEVENT
DTSTART;TZID=America/New_York:20290816T190000
DTEND;TZID=America/New_York:20290816T210000
DTSTAMP:20260420T160503
CREATED:20250406T160451Z
LAST-MODIFIED:20251215T203612Z
UID:10000838-1881601200-1881608400@ardenbuzz.com
SUMMARY:Qi Gong
DESCRIPTION:
URL:https://ardenbuzz.com/event/qi-gong/2029-08-16/
LOCATION:3
CATEGORIES:Rental
END:VEVENT
BEGIN:VEVENT
DTSTART;TZID=America/New_York:20290818T090000
DTEND;TZID=America/New_York:20290818T100000
DTSTAMP:20260420T160503
CREATED:20250815T002135Z
LAST-MODIFIED:20251215T190033Z
UID:10003104-1881738000-1881741600@ardenbuzz.com
SUMMARY:Tai Chi
DESCRIPTION:
URL:https://ardenbuzz.com/event/tai-chi-2-2/2029-08-18/
LOCATION:1
CATEGORIES:Community Event
END:VEVENT
BEGIN:VEVENT
DTSTART;TZID=America/New_York:20290819T090000
DTEND;TZID=America/New_York:20290819T130000
DTSTAMP:20260420T160503
CREATED:20250404T031015Z
LAST-MODIFIED:20251129T175139Z
UID:10000235-1881824400-1881838800@ardenbuzz.com
SUMMARY:Awakened Heart
DESCRIPTION:Spiritual Center \n 
URL:https://ardenbuzz.com/event/awakened-heart/2029-08-19/
LOCATION:1/2/3
CATEGORIES:Rental
END:VEVENT
BEGIN:VEVENT
DTSTART;TZID=America/New_York:20290820T090000
DTEND;TZID=America/New_York:20290820T100000
DTSTAMP:20260420T160503
CREATED:20250815T002135Z
LAST-MODIFIED:20251215T190033Z
UID:10003105-1881910800-1881914400@ardenbuzz.com
SUMMARY:Tai Chi
DESCRIPTION:
URL:https://ardenbuzz.com/event/tai-chi-2-2/2029-08-20/
LOCATION:1
CATEGORIES:Community Event
END:VEVENT
BEGIN:VEVENT
DTSTART;TZID=America/New_York:20290820T170000
DTEND;TZID=America/New_York:20290820T190000
DTSTAMP:20260420T160504
CREATED:20250404T041536Z
LAST-MODIFIED:20250404T041536Z
UID:10000587-1881939600-1881946800@ardenbuzz.com
SUMMARY:Buzz Committee
DESCRIPTION:
URL:https://ardenbuzz.com/event/buzz-committee/2029-08-20/
LOCATION:2
CATEGORIES:Committee
END:VEVENT
BEGIN:VEVENT
DTSTART;TZID=America/New_York:20290820T190000
DTEND;TZID=America/New_York:20290820T210000
DTSTAMP:20260420T160504
CREATED:20250407T210151Z
LAST-MODIFIED:20250407T210151Z
UID:10001150-1881946800-1881954000@ardenbuzz.com
SUMMARY:Art Studio
DESCRIPTION:
URL:https://ardenbuzz.com/event/art-studio/2029-08-20/
LOCATION:3
CATEGORIES:Community Event
END:VEVENT
BEGIN:VEVENT
DTSTART;TZID=America/New_York:20290822T174500
DTEND;TZID=America/New_York:20290822T220000
DTSTAMP:20260420T160504
CREATED:20250815T001731Z
LAST-MODIFIED:20251215T190352Z
UID:10004537-1882115100-1882130400@ardenbuzz.com
SUMMARY:Awakened Heart
DESCRIPTION:
URL:https://ardenbuzz.com/event/awakened-heart-3/2029-08-22/
LOCATION:3
CATEGORIES:Rental
END:VEVENT
BEGIN:VEVENT
DTSTART;TZID=America/New_York:20290823T090000
DTEND;TZID=America/New_York:20290823T100000
DTSTAMP:20260420T160504
CREATED:20250815T002135Z
LAST-MODIFIED:20251215T190033Z
UID:10003106-1882170000-1882173600@ardenbuzz.com
SUMMARY:Tai Chi
DESCRIPTION:
URL:https://ardenbuzz.com/event/tai-chi-2-2/2029-08-23/
LOCATION:1
CATEGORIES:Community Event
END:VEVENT
BEGIN:VEVENT
DTSTART;TZID=America/New_York:20290823T190000
DTEND;TZID=America/New_York:20290823T210000
DTSTAMP:20260420T160504
CREATED:20250406T160451Z
LAST-MODIFIED:20251215T203612Z
UID:10000839-1882206000-1882213200@ardenbuzz.com
SUMMARY:Qi Gong
DESCRIPTION:
URL:https://ardenbuzz.com/event/qi-gong/2029-08-23/
LOCATION:3
CATEGORIES:Rental
END:VEVENT
BEGIN:VEVENT
DTSTART;TZID=America/New_York:20290825T090000
DTEND;TZID=America/New_York:20290825T100000
DTSTAMP:20260420T160504
CREATED:20250815T002135Z
LAST-MODIFIED:20251215T190033Z
UID:10003107-1882342800-1882346400@ardenbuzz.com
SUMMARY:Tai Chi
DESCRIPTION:
URL:https://ardenbuzz.com/event/tai-chi-2-2/2029-08-25/
LOCATION:1
CATEGORIES:Community Event
END:VEVENT
BEGIN:VEVENT
DTSTART;TZID=America/New_York:20290826T090000
DTEND;TZID=America/New_York:20290826T130000
DTSTAMP:20260420T160504
CREATED:20250404T031015Z
LAST-MODIFIED:20251129T175139Z
UID:10000236-1882429200-1882443600@ardenbuzz.com
SUMMARY:Awakened Heart
DESCRIPTION:Spiritual Center \n 
URL:https://ardenbuzz.com/event/awakened-heart/2029-08-26/
LOCATION:1/2/3
CATEGORIES:Rental
END:VEVENT
BEGIN:VEVENT
DTSTART;TZID=America/New_York:20290827T090000
DTEND;TZID=America/New_York:20290827T100000
DTSTAMP:20260420T160504
CREATED:20250815T002135Z
LAST-MODIFIED:20251215T190033Z
UID:10003108-1882515600-1882519200@ardenbuzz.com
SUMMARY:Tai Chi
DESCRIPTION:
URL:https://ardenbuzz.com/event/tai-chi-2-2/2029-08-27/
LOCATION:1
CATEGORIES:Community Event
END:VEVENT
BEGIN:VEVENT
DTSTART;TZID=America/New_York:20290827T190000
DTEND;TZID=America/New_York:20290827T210000
DTSTAMP:20260420T160504
CREATED:20250407T210151Z
LAST-MODIFIED:20250407T210151Z
UID:10001151-1882551600-1882558800@ardenbuzz.com
SUMMARY:Art Studio
DESCRIPTION:
URL:https://ardenbuzz.com/event/art-studio/2029-08-27/
LOCATION:3
CATEGORIES:Community Event
END:VEVENT
BEGIN:VEVENT
DTSTART;TZID=America/New_York:20290829T174500
DTEND;TZID=America/New_York:20290829T220000
DTSTAMP:20260420T160504
CREATED:20250815T001731Z
LAST-MODIFIED:20251215T190352Z
UID:10004538-1882719900-1882735200@ardenbuzz.com
SUMMARY:Awakened Heart
DESCRIPTION:
URL:https://ardenbuzz.com/event/awakened-heart-3/2029-08-29/
LOCATION:3
CATEGORIES:Rental
END:VEVENT
BEGIN:VEVENT
DTSTART;TZID=America/New_York:20290830T090000
DTEND;TZID=America/New_York:20290830T100000
DTSTAMP:20260420T160504
CREATED:20250815T002135Z
LAST-MODIFIED:20251215T190033Z
UID:10003109-1882774800-1882778400@ardenbuzz.com
SUMMARY:Tai Chi
DESCRIPTION:
URL:https://ardenbuzz.com/event/tai-chi-2-2/2029-08-30/
LOCATION:1
CATEGORIES:Community Event
END:VEVENT
BEGIN:VEVENT
DTSTART;TZID=America/New_York:20290830T190000
DTEND;TZID=America/New_York:20290830T210000
DTSTAMP:20260420T160504
CREATED:20250406T160451Z
LAST-MODIFIED:20251215T203612Z
UID:10000840-1882810800-1882818000@ardenbuzz.com
SUMMARY:Qi Gong
DESCRIPTION:
URL:https://ardenbuzz.com/event/qi-gong/2029-08-30/
LOCATION:3
CATEGORIES:Rental
END:VEVENT
BEGIN:VEVENT
DTSTART;TZID=America/New_York:20290901T090000
DTEND;TZID=America/New_York:20290901T100000
DTSTAMP:20260420T160504
CREATED:20250815T002135Z
LAST-MODIFIED:20251215T190033Z
UID:10003110-1882947600-1882951200@ardenbuzz.com
SUMMARY:Tai Chi
DESCRIPTION:
URL:https://ardenbuzz.com/event/tai-chi-2-2/2029-09-01/
LOCATION:1
CATEGORIES:Community Event
END:VEVENT
BEGIN:VEVENT
DTSTART;TZID=America/New_York:20290902T090000
DTEND;TZID=America/New_York:20290902T130000
DTSTAMP:20260420T160504
CREATED:20250404T031015Z
LAST-MODIFIED:20251129T175139Z
UID:10000237-1883034000-1883048400@ardenbuzz.com
SUMMARY:Awakened Heart
DESCRIPTION:Spiritual Center \n 
URL:https://ardenbuzz.com/event/awakened-heart/2029-09-02/
LOCATION:1/2/3
CATEGORIES:Rental
END:VEVENT
END:VCALENDAR