BEGIN:VCALENDAR
VERSION:2.0
PRODID:-//Arden Buzz Ware - ECPv6.15.20//NONSGML v1.0//EN
CALSCALE:GREGORIAN
METHOD:PUBLISH
X-WR-CALNAME:Arden Buzz Ware
X-ORIGINAL-URL:https://ardenbuzz.com
X-WR-CALDESC:Events for Arden Buzz Ware
REFRESH-INTERVAL;VALUE=DURATION:PT1H
X-Robots-Tag:noindex
X-PUBLISHED-TTL:PT1H
BEGIN:VTIMEZONE
TZID:America/New_York
BEGIN:DAYLIGHT
TZOFFSETFROM:-0500
TZOFFSETTO:-0400
TZNAME:EDT
DTSTART:20280312T070000
END:DAYLIGHT
BEGIN:STANDARD
TZOFFSETFROM:-0400
TZOFFSETTO:-0500
TZNAME:EST
DTSTART:20281105T060000
END:STANDARD
BEGIN:DAYLIGHT
TZOFFSETFROM:-0500
TZOFFSETTO:-0400
TZNAME:EDT
DTSTART:20290311T070000
END:DAYLIGHT
BEGIN:STANDARD
TZOFFSETFROM:-0400
TZOFFSETTO:-0500
TZNAME:EST
DTSTART:20291104T060000
END:STANDARD
BEGIN:DAYLIGHT
TZOFFSETFROM:-0500
TZOFFSETTO:-0400
TZNAME:EDT
DTSTART:20300310T070000
END:DAYLIGHT
BEGIN:STANDARD
TZOFFSETFROM:-0400
TZOFFSETTO:-0500
TZNAME:EST
DTSTART:20301103T060000
END:STANDARD
END:VTIMEZONE
BEGIN:VEVENT
DTSTART;TZID=America/New_York:20290723T090000
DTEND;TZID=America/New_York:20290723T100000
DTSTAMP:20260420T112513
CREATED:20250815T002135Z
LAST-MODIFIED:20251215T190033Z
UID:10003093-1879491600-1879495200@ardenbuzz.com
SUMMARY:Tai Chi
DESCRIPTION:
URL:https://ardenbuzz.com/event/tai-chi-2-2/2029-07-23/
LOCATION:1
CATEGORIES:Community Event
END:VEVENT
BEGIN:VEVENT
DTSTART;TZID=America/New_York:20290723T190000
DTEND;TZID=America/New_York:20290723T210000
DTSTAMP:20260420T112513
CREATED:20250407T210151Z
LAST-MODIFIED:20250407T210151Z
UID:10001146-1879527600-1879534800@ardenbuzz.com
SUMMARY:Art Studio
DESCRIPTION:
URL:https://ardenbuzz.com/event/art-studio/2029-07-23/
LOCATION:3
CATEGORIES:Community Event
END:VEVENT
BEGIN:VEVENT
DTSTART;TZID=America/New_York:20290725T174500
DTEND;TZID=America/New_York:20290725T220000
DTSTAMP:20260420T112513
CREATED:20250815T001731Z
LAST-MODIFIED:20251215T190352Z
UID:10004533-1879695900-1879711200@ardenbuzz.com
SUMMARY:Awakened Heart
DESCRIPTION:
URL:https://ardenbuzz.com/event/awakened-heart-3/2029-07-25/
LOCATION:3
CATEGORIES:Rental
END:VEVENT
BEGIN:VEVENT
DTSTART;TZID=America/New_York:20290726T090000
DTEND;TZID=America/New_York:20290726T100000
DTSTAMP:20260420T112513
CREATED:20250815T002135Z
LAST-MODIFIED:20251215T190033Z
UID:10003094-1879750800-1879754400@ardenbuzz.com
SUMMARY:Tai Chi
DESCRIPTION:
URL:https://ardenbuzz.com/event/tai-chi-2-2/2029-07-26/
LOCATION:1
CATEGORIES:Community Event
END:VEVENT
BEGIN:VEVENT
DTSTART;TZID=America/New_York:20290726T190000
DTEND;TZID=America/New_York:20290726T210000
DTSTAMP:20260420T112513
CREATED:20250406T160451Z
LAST-MODIFIED:20251215T203612Z
UID:10000835-1879786800-1879794000@ardenbuzz.com
SUMMARY:Qi Gong
DESCRIPTION:
URL:https://ardenbuzz.com/event/qi-gong/2029-07-26/
LOCATION:3
CATEGORIES:Rental
END:VEVENT
BEGIN:VEVENT
DTSTART;TZID=America/New_York:20290728T090000
DTEND;TZID=America/New_York:20290728T100000
DTSTAMP:20260420T112513
CREATED:20250815T002135Z
LAST-MODIFIED:20251215T190033Z
UID:10003095-1879923600-1879927200@ardenbuzz.com
SUMMARY:Tai Chi
DESCRIPTION:
URL:https://ardenbuzz.com/event/tai-chi-2-2/2029-07-28/
LOCATION:1
CATEGORIES:Community Event
END:VEVENT
BEGIN:VEVENT
DTSTART;TZID=America/New_York:20290729T090000
DTEND;TZID=America/New_York:20290729T130000
DTSTAMP:20260420T112513
CREATED:20250404T031015Z
LAST-MODIFIED:20251129T175139Z
UID:10000232-1880010000-1880024400@ardenbuzz.com
SUMMARY:Awakened Heart
DESCRIPTION:Spiritual Center \n 
URL:https://ardenbuzz.com/event/awakened-heart/2029-07-29/
LOCATION:1/2/3
CATEGORIES:Rental
END:VEVENT
BEGIN:VEVENT
DTSTART;TZID=America/New_York:20290730T090000
DTEND;TZID=America/New_York:20290730T100000
DTSTAMP:20260420T112513
CREATED:20250815T002135Z
LAST-MODIFIED:20251215T190033Z
UID:10003096-1880096400-1880100000@ardenbuzz.com
SUMMARY:Tai Chi
DESCRIPTION:
URL:https://ardenbuzz.com/event/tai-chi-2-2/2029-07-30/
LOCATION:1
CATEGORIES:Community Event
END:VEVENT
BEGIN:VEVENT
DTSTART;TZID=America/New_York:20290730T190000
DTEND;TZID=America/New_York:20290730T210000
DTSTAMP:20260420T112513
CREATED:20250407T210151Z
LAST-MODIFIED:20250407T210151Z
UID:10001147-1880132400-1880139600@ardenbuzz.com
SUMMARY:Art Studio
DESCRIPTION:
URL:https://ardenbuzz.com/event/art-studio/2029-07-30/
LOCATION:3
CATEGORIES:Community Event
END:VEVENT
BEGIN:VEVENT
DTSTART;TZID=America/New_York:20290801T174500
DTEND;TZID=America/New_York:20290801T220000
DTSTAMP:20260420T112513
CREATED:20250815T001731Z
LAST-MODIFIED:20251215T190352Z
UID:10004534-1880300700-1880316000@ardenbuzz.com
SUMMARY:Awakened Heart
DESCRIPTION:
URL:https://ardenbuzz.com/event/awakened-heart-3/2029-08-01/
LOCATION:3
CATEGORIES:Rental
END:VEVENT
BEGIN:VEVENT
DTSTART;TZID=America/New_York:20290802T090000
DTEND;TZID=America/New_York:20290802T100000
DTSTAMP:20260420T112513
CREATED:20250815T002135Z
LAST-MODIFIED:20251215T190033Z
UID:10003097-1880355600-1880359200@ardenbuzz.com
SUMMARY:Tai Chi
DESCRIPTION:
URL:https://ardenbuzz.com/event/tai-chi-2-2/2029-08-02/
LOCATION:1
CATEGORIES:Community Event
END:VEVENT
BEGIN:VEVENT
DTSTART;TZID=America/New_York:20290802T190000
DTEND;TZID=America/New_York:20290802T210000
DTSTAMP:20260420T112513
CREATED:20250406T160451Z
LAST-MODIFIED:20251215T203612Z
UID:10000836-1880391600-1880398800@ardenbuzz.com
SUMMARY:Qi Gong
DESCRIPTION:
URL:https://ardenbuzz.com/event/qi-gong/2029-08-02/
LOCATION:3
CATEGORIES:Rental
END:VEVENT
BEGIN:VEVENT
DTSTART;TZID=America/New_York:20290802T190000
DTEND;TZID=America/New_York:20290802T210000
DTSTAMP:20260420T112513
CREATED:20250409T154517Z
LAST-MODIFIED:20251215T184913Z
UID:10002255-1880391600-1880398800@ardenbuzz.com
SUMMARY:Playground Committee
DESCRIPTION:
URL:https://ardenbuzz.com/event/playground-committee/2029-08-02/
LOCATION:1
CATEGORIES:Committee
END:VEVENT
BEGIN:VEVENT
DTSTART;TZID=America/New_York:20290804T090000
DTEND;TZID=America/New_York:20290804T100000
DTSTAMP:20260420T112513
CREATED:20250815T002135Z
LAST-MODIFIED:20251215T190033Z
UID:10003098-1880528400-1880532000@ardenbuzz.com
SUMMARY:Tai Chi
DESCRIPTION:
URL:https://ardenbuzz.com/event/tai-chi-2-2/2029-08-04/
LOCATION:1
CATEGORIES:Community Event
END:VEVENT
BEGIN:VEVENT
DTSTART;TZID=America/New_York:20290805T090000
DTEND;TZID=America/New_York:20290805T130000
DTSTAMP:20260420T112513
CREATED:20250404T031015Z
LAST-MODIFIED:20251129T175139Z
UID:10000233-1880614800-1880629200@ardenbuzz.com
SUMMARY:Awakened Heart
DESCRIPTION:Spiritual Center \n 
URL:https://ardenbuzz.com/event/awakened-heart/2029-08-05/
LOCATION:1/2/3
CATEGORIES:Rental
END:VEVENT
BEGIN:VEVENT
DTSTART;TZID=America/New_York:20290806T090000
DTEND;TZID=America/New_York:20290806T100000
DTSTAMP:20260420T112513
CREATED:20250815T002135Z
LAST-MODIFIED:20251215T190033Z
UID:10003099-1880701200-1880704800@ardenbuzz.com
SUMMARY:Tai Chi
DESCRIPTION:
URL:https://ardenbuzz.com/event/tai-chi-2-2/2029-08-06/
LOCATION:1
CATEGORIES:Community Event
END:VEVENT
BEGIN:VEVENT
DTSTART;TZID=America/New_York:20290806T190000
DTEND;TZID=America/New_York:20290806T210000
DTSTAMP:20260420T112513
CREATED:20250407T210151Z
LAST-MODIFIED:20250407T210151Z
UID:10001148-1880737200-1880744400@ardenbuzz.com
SUMMARY:Art Studio
DESCRIPTION:
URL:https://ardenbuzz.com/event/art-studio/2029-08-06/
LOCATION:3
CATEGORIES:Community Event
END:VEVENT
BEGIN:VEVENT
DTSTART;TZID=America/New_York:20290807T180000
DTEND;TZID=America/New_York:20290807T190000
DTSTAMP:20260420T112513
CREATED:20250507T123951Z
LAST-MODIFIED:20250820T181033Z
UID:10002447-1880820000-1880823600@ardenbuzz.com
SUMMARY:Safety Committee
DESCRIPTION:
URL:https://ardenbuzz.com/event/safety-committee-2/2029-08-07/
LOCATION:2
CATEGORIES:Committee
END:VEVENT
BEGIN:VEVENT
DTSTART;TZID=America/New_York:20290807T190000
DTEND;TZID=America/New_York:20290807T210000
DTSTAMP:20260420T112513
CREATED:20250407T210723Z
LAST-MODIFIED:20250407T210723Z
UID:10001235-1880823600-1880830800@ardenbuzz.com
SUMMARY:Arden's Ready Meeting
DESCRIPTION:
URL:https://ardenbuzz.com/event/ardens-ready-meeting/2029-08-07/
LOCATION:1
CATEGORIES:Community Event
END:VEVENT
BEGIN:VEVENT
DTSTART;TZID=America/New_York:20290807T193000
DTEND;TZID=America/New_York:20290807T210000
DTSTAMP:20260420T112514
CREATED:20250918T152453Z
LAST-MODIFIED:20250918T152453Z
UID:10004903-1880825400-1880830800@ardenbuzz.com
SUMMARY:Civic Committee Meeting
DESCRIPTION:
URL:https://ardenbuzz.com/event/civic-committee-meeting-4/2029-08-07/
LOCATION:2
CATEGORIES:Committee
END:VEVENT
BEGIN:VEVENT
DTSTART;TZID=America/New_York:20290808T174500
DTEND;TZID=America/New_York:20290808T220000
DTSTAMP:20260420T112514
CREATED:20250815T001731Z
LAST-MODIFIED:20251215T190352Z
UID:10004535-1880905500-1880920800@ardenbuzz.com
SUMMARY:Awakened Heart
DESCRIPTION:
URL:https://ardenbuzz.com/event/awakened-heart-3/2029-08-08/
LOCATION:3
CATEGORIES:Rental
END:VEVENT
BEGIN:VEVENT
DTSTART;TZID=America/New_York:20290808T193000
DTEND;TZID=America/New_York:20290808T213000
DTSTAMP:20260420T112514
CREATED:20250818T175109Z
LAST-MODIFIED:20260109T043220Z
UID:10004711-1880911800-1880919000@ardenbuzz.com
SUMMARY:Community Planning Committee
DESCRIPTION:
URL:https://ardenbuzz.com/event/community-planning-committee-5/2029-08-08/
LOCATION:2
CATEGORIES:Committee
END:VEVENT
BEGIN:VEVENT
DTSTART;TZID=America/New_York:20290809T090000
DTEND;TZID=America/New_York:20290809T100000
DTSTAMP:20260420T112514
CREATED:20250815T002135Z
LAST-MODIFIED:20251215T190033Z
UID:10003100-1880960400-1880964000@ardenbuzz.com
SUMMARY:Tai Chi
DESCRIPTION:
URL:https://ardenbuzz.com/event/tai-chi-2-2/2029-08-09/
LOCATION:1
CATEGORIES:Community Event
END:VEVENT
BEGIN:VEVENT
DTSTART;TZID=America/New_York:20290809T190000
DTEND;TZID=America/New_York:20290809T210000
DTSTAMP:20260420T112514
CREATED:20250406T160451Z
LAST-MODIFIED:20251215T203612Z
UID:10000837-1880996400-1881003600@ardenbuzz.com
SUMMARY:Qi Gong
DESCRIPTION:
URL:https://ardenbuzz.com/event/qi-gong/2029-08-09/
LOCATION:3
CATEGORIES:Rental
END:VEVENT
BEGIN:VEVENT
DTSTART;TZID=America/New_York:20290811T090000
DTEND;TZID=America/New_York:20290811T100000
DTSTAMP:20260420T112514
CREATED:20250815T002135Z
LAST-MODIFIED:20251215T190033Z
UID:10003101-1881133200-1881136800@ardenbuzz.com
SUMMARY:Tai Chi
DESCRIPTION:
URL:https://ardenbuzz.com/event/tai-chi-2-2/2029-08-11/
LOCATION:1
CATEGORIES:Community Event
END:VEVENT
BEGIN:VEVENT
DTSTART;TZID=America/New_York:20290812T090000
DTEND;TZID=America/New_York:20290812T130000
DTSTAMP:20260420T112514
CREATED:20250404T031015Z
LAST-MODIFIED:20251129T175139Z
UID:10000234-1881219600-1881234000@ardenbuzz.com
SUMMARY:Awakened Heart
DESCRIPTION:Spiritual Center \n 
URL:https://ardenbuzz.com/event/awakened-heart/2029-08-12/
LOCATION:1/2/3
CATEGORIES:Rental
END:VEVENT
BEGIN:VEVENT
DTSTART;TZID=America/New_York:20290813T090000
DTEND;TZID=America/New_York:20290813T100000
DTSTAMP:20260420T112514
CREATED:20250815T002135Z
LAST-MODIFIED:20251215T190033Z
UID:10003102-1881306000-1881309600@ardenbuzz.com
SUMMARY:Tai Chi
DESCRIPTION:
URL:https://ardenbuzz.com/event/tai-chi-2-2/2029-08-13/
LOCATION:1
CATEGORIES:Community Event
END:VEVENT
BEGIN:VEVENT
DTSTART;TZID=America/New_York:20290813T190000
DTEND;TZID=America/New_York:20290813T210000
DTSTAMP:20260420T112514
CREATED:20250407T210151Z
LAST-MODIFIED:20250407T210151Z
UID:10001149-1881342000-1881349200@ardenbuzz.com
SUMMARY:Art Studio
DESCRIPTION:
URL:https://ardenbuzz.com/event/art-studio/2029-08-13/
LOCATION:3
CATEGORIES:Community Event
END:VEVENT
BEGIN:VEVENT
DTSTART;TZID=America/New_York:20290813T190000
DTEND;TZID=America/New_York:20290813T210000
DTSTAMP:20260420T112514
CREATED:20250409T154347Z
LAST-MODIFIED:20250409T154347Z
UID:10002194-1881342000-1881349200@ardenbuzz.com
SUMMARY:Forest Committee
DESCRIPTION:
URL:https://ardenbuzz.com/event/forest-committee/2029-08-13/
LOCATION:1
CATEGORIES:Committee
END:VEVENT
BEGIN:VEVENT
DTSTART;TZID=America/New_York:20290814T180000
DTEND;TZID=America/New_York:20290814T190000
DTSTAMP:20260420T112514
CREATED:20260109T044115Z
LAST-MODIFIED:20260109T044115Z
UID:10005251-1881424800-1881428400@ardenbuzz.com
SUMMARY:Playground Committee
DESCRIPTION:
URL:https://ardenbuzz.com/event/playground-committee-3/2029-08-14/
LOCATION:2
CATEGORIES:Committee
END:VEVENT
END:VCALENDAR