BEGIN:VCALENDAR
VERSION:2.0
PRODID:-//Arden Buzz Ware - ECPv6.15.20//NONSGML v1.0//EN
CALSCALE:GREGORIAN
METHOD:PUBLISH
X-ORIGINAL-URL:https://ardenbuzz.com
X-WR-CALDESC:Events for Arden Buzz Ware
REFRESH-INTERVAL;VALUE=DURATION:PT1H
X-Robots-Tag:noindex
X-PUBLISHED-TTL:PT1H
BEGIN:VTIMEZONE
TZID:America/New_York
BEGIN:DAYLIGHT
TZOFFSETFROM:-0500
TZOFFSETTO:-0400
TZNAME:EDT
DTSTART:20280312T070000
END:DAYLIGHT
BEGIN:STANDARD
TZOFFSETFROM:-0400
TZOFFSETTO:-0500
TZNAME:EST
DTSTART:20281105T060000
END:STANDARD
BEGIN:DAYLIGHT
TZOFFSETFROM:-0500
TZOFFSETTO:-0400
TZNAME:EDT
DTSTART:20290311T070000
END:DAYLIGHT
BEGIN:STANDARD
TZOFFSETFROM:-0400
TZOFFSETTO:-0500
TZNAME:EST
DTSTART:20291104T060000
END:STANDARD
BEGIN:DAYLIGHT
TZOFFSETFROM:-0500
TZOFFSETTO:-0400
TZNAME:EDT
DTSTART:20300310T070000
END:DAYLIGHT
BEGIN:STANDARD
TZOFFSETFROM:-0400
TZOFFSETTO:-0500
TZNAME:EST
DTSTART:20301103T060000
END:STANDARD
END:VTIMEZONE
BEGIN:VEVENT
DTSTART;TZID=America/New_York:20290620T174500
DTEND;TZID=America/New_York:20290620T220000
DTSTAMP:20260419T235328
CREATED:20250815T001731Z
LAST-MODIFIED:20251215T190352Z
UID:10004528-1876671900-1876687200@ardenbuzz.com
SUMMARY:Awakened Heart
DESCRIPTION:
URL:https://ardenbuzz.com/event/awakened-heart-3/2029-06-20/
LOCATION:3
CATEGORIES:Rental
END:VEVENT
BEGIN:VEVENT
DTSTART;TZID=America/New_York:20290621T090000
DTEND;TZID=America/New_York:20290621T100000
DTSTAMP:20260419T235328
CREATED:20250815T002135Z
LAST-MODIFIED:20251215T190033Z
UID:10003079-1876726800-1876730400@ardenbuzz.com
SUMMARY:Tai Chi
DESCRIPTION:
URL:https://ardenbuzz.com/event/tai-chi-2-2/2029-06-21/
LOCATION:1
CATEGORIES:Community Event
END:VEVENT
BEGIN:VEVENT
DTSTART;TZID=America/New_York:20290621T190000
DTEND;TZID=America/New_York:20290621T210000
DTSTAMP:20260419T235328
CREATED:20250406T160451Z
LAST-MODIFIED:20251215T203612Z
UID:10000830-1876762800-1876770000@ardenbuzz.com
SUMMARY:Qi Gong
DESCRIPTION:
URL:https://ardenbuzz.com/event/qi-gong/2029-06-21/
LOCATION:3
CATEGORIES:Rental
END:VEVENT
BEGIN:VEVENT
DTSTART;TZID=America/New_York:20290623T090000
DTEND;TZID=America/New_York:20290623T100000
DTSTAMP:20260419T235328
CREATED:20250815T002135Z
LAST-MODIFIED:20251215T190033Z
UID:10003080-1876899600-1876903200@ardenbuzz.com
SUMMARY:Tai Chi
DESCRIPTION:
URL:https://ardenbuzz.com/event/tai-chi-2-2/2029-06-23/
LOCATION:1
CATEGORIES:Community Event
END:VEVENT
BEGIN:VEVENT
DTSTART;TZID=America/New_York:20290624T090000
DTEND;TZID=America/New_York:20290624T130000
DTSTAMP:20260419T235328
CREATED:20250404T031015Z
LAST-MODIFIED:20251129T175139Z
UID:10000227-1876986000-1877000400@ardenbuzz.com
SUMMARY:Awakened Heart
DESCRIPTION:Spiritual Center \n 
URL:https://ardenbuzz.com/event/awakened-heart/2029-06-24/
LOCATION:1/2/3
CATEGORIES:Rental
END:VEVENT
BEGIN:VEVENT
DTSTART;TZID=America/New_York:20290625T090000
DTEND;TZID=America/New_York:20290625T100000
DTSTAMP:20260419T235328
CREATED:20250815T002135Z
LAST-MODIFIED:20251215T190033Z
UID:10003081-1877072400-1877076000@ardenbuzz.com
SUMMARY:Tai Chi
DESCRIPTION:
URL:https://ardenbuzz.com/event/tai-chi-2-2/2029-06-25/
LOCATION:1
CATEGORIES:Community Event
END:VEVENT
BEGIN:VEVENT
DTSTART;TZID=America/New_York:20290625T190000
DTEND;TZID=America/New_York:20290625T210000
DTSTAMP:20260419T235328
CREATED:20250407T210151Z
LAST-MODIFIED:20250407T210151Z
UID:10001142-1877108400-1877115600@ardenbuzz.com
SUMMARY:Art Studio
DESCRIPTION:
URL:https://ardenbuzz.com/event/art-studio/2029-06-25/
LOCATION:3
CATEGORIES:Community Event
END:VEVENT
BEGIN:VEVENT
DTSTART;TZID=America/New_York:20290627T174500
DTEND;TZID=America/New_York:20290627T220000
DTSTAMP:20260419T235328
CREATED:20250815T001731Z
LAST-MODIFIED:20251215T190352Z
UID:10004529-1877276700-1877292000@ardenbuzz.com
SUMMARY:Awakened Heart
DESCRIPTION:
URL:https://ardenbuzz.com/event/awakened-heart-3/2029-06-27/
LOCATION:3
CATEGORIES:Rental
END:VEVENT
BEGIN:VEVENT
DTSTART;TZID=America/New_York:20290628T090000
DTEND;TZID=America/New_York:20290628T100000
DTSTAMP:20260419T235328
CREATED:20250815T002135Z
LAST-MODIFIED:20251215T190033Z
UID:10003082-1877331600-1877335200@ardenbuzz.com
SUMMARY:Tai Chi
DESCRIPTION:
URL:https://ardenbuzz.com/event/tai-chi-2-2/2029-06-28/
LOCATION:1
CATEGORIES:Community Event
END:VEVENT
BEGIN:VEVENT
DTSTART;TZID=America/New_York:20290628T190000
DTEND;TZID=America/New_York:20290628T210000
DTSTAMP:20260419T235328
CREATED:20250406T160451Z
LAST-MODIFIED:20251215T203612Z
UID:10000831-1877367600-1877374800@ardenbuzz.com
SUMMARY:Qi Gong
DESCRIPTION:
URL:https://ardenbuzz.com/event/qi-gong/2029-06-28/
LOCATION:3
CATEGORIES:Rental
END:VEVENT
BEGIN:VEVENT
DTSTART;TZID=America/New_York:20290630T090000
DTEND;TZID=America/New_York:20290630T100000
DTSTAMP:20260419T235328
CREATED:20250815T002135Z
LAST-MODIFIED:20251215T190033Z
UID:10003083-1877504400-1877508000@ardenbuzz.com
SUMMARY:Tai Chi
DESCRIPTION:
URL:https://ardenbuzz.com/event/tai-chi-2-2/2029-06-30/
LOCATION:1
CATEGORIES:Community Event
END:VEVENT
BEGIN:VEVENT
DTSTART;TZID=America/New_York:20290701T090000
DTEND;TZID=America/New_York:20290701T130000
DTSTAMP:20260419T235328
CREATED:20250404T031015Z
LAST-MODIFIED:20251129T175139Z
UID:10000228-1877590800-1877605200@ardenbuzz.com
SUMMARY:Awakened Heart
DESCRIPTION:Spiritual Center \n 
URL:https://ardenbuzz.com/event/awakened-heart/2029-07-01/
LOCATION:1/2/3
CATEGORIES:Rental
END:VEVENT
BEGIN:VEVENT
DTSTART;TZID=America/New_York:20290702T090000
DTEND;TZID=America/New_York:20290702T100000
DTSTAMP:20260419T235328
CREATED:20250815T002135Z
LAST-MODIFIED:20251215T190033Z
UID:10003084-1877677200-1877680800@ardenbuzz.com
SUMMARY:Tai Chi
DESCRIPTION:
URL:https://ardenbuzz.com/event/tai-chi-2-2/2029-07-02/
LOCATION:1
CATEGORIES:Community Event
END:VEVENT
BEGIN:VEVENT
DTSTART;TZID=America/New_York:20290702T190000
DTEND;TZID=America/New_York:20290702T210000
DTSTAMP:20260419T235328
CREATED:20250407T210151Z
LAST-MODIFIED:20250407T210151Z
UID:10001143-1877713200-1877720400@ardenbuzz.com
SUMMARY:Art Studio
DESCRIPTION:
URL:https://ardenbuzz.com/event/art-studio/2029-07-02/
LOCATION:3
CATEGORIES:Community Event
END:VEVENT
BEGIN:VEVENT
DTSTART;TZID=America/New_York:20290703T180000
DTEND;TZID=America/New_York:20290703T190000
DTSTAMP:20260419T235328
CREATED:20250507T123951Z
LAST-MODIFIED:20250820T181033Z
UID:10002446-1877796000-1877799600@ardenbuzz.com
SUMMARY:Safety Committee
DESCRIPTION:
URL:https://ardenbuzz.com/event/safety-committee-2/2029-07-03/
LOCATION:2
CATEGORIES:Committee
END:VEVENT
BEGIN:VEVENT
DTSTART;TZID=America/New_York:20290703T190000
DTEND;TZID=America/New_York:20290703T210000
DTSTAMP:20260419T235328
CREATED:20250407T210723Z
LAST-MODIFIED:20250407T210723Z
UID:10001234-1877799600-1877806800@ardenbuzz.com
SUMMARY:Arden's Ready Meeting
DESCRIPTION:
URL:https://ardenbuzz.com/event/ardens-ready-meeting/2029-07-03/
LOCATION:1
CATEGORIES:Community Event
END:VEVENT
BEGIN:VEVENT
DTSTART;TZID=America/New_York:20290703T193000
DTEND;TZID=America/New_York:20290703T210000
DTSTAMP:20260419T235328
CREATED:20250918T152453Z
LAST-MODIFIED:20250918T152453Z
UID:10004902-1877801400-1877806800@ardenbuzz.com
SUMMARY:Civic Committee Meeting
DESCRIPTION:
URL:https://ardenbuzz.com/event/civic-committee-meeting-4/2029-07-03/
LOCATION:2
CATEGORIES:Committee
END:VEVENT
BEGIN:VEVENT
DTSTART;TZID=America/New_York:20290704T174500
DTEND;TZID=America/New_York:20290704T220000
DTSTAMP:20260419T235328
CREATED:20250815T001731Z
LAST-MODIFIED:20251215T190352Z
UID:10004530-1877881500-1877896800@ardenbuzz.com
SUMMARY:Awakened Heart
DESCRIPTION:
URL:https://ardenbuzz.com/event/awakened-heart-3/2029-07-04/
LOCATION:3
CATEGORIES:Rental
END:VEVENT
BEGIN:VEVENT
DTSTART;TZID=America/New_York:20290705T090000
DTEND;TZID=America/New_York:20290705T100000
DTSTAMP:20260419T235328
CREATED:20250815T002135Z
LAST-MODIFIED:20251215T190033Z
UID:10003085-1877936400-1877940000@ardenbuzz.com
SUMMARY:Tai Chi
DESCRIPTION:
URL:https://ardenbuzz.com/event/tai-chi-2-2/2029-07-05/
LOCATION:1
CATEGORIES:Community Event
END:VEVENT
BEGIN:VEVENT
DTSTART;TZID=America/New_York:20290705T190000
DTEND;TZID=America/New_York:20290705T210000
DTSTAMP:20260419T235328
CREATED:20250406T160451Z
LAST-MODIFIED:20251215T203612Z
UID:10000832-1877972400-1877979600@ardenbuzz.com
SUMMARY:Qi Gong
DESCRIPTION:
URL:https://ardenbuzz.com/event/qi-gong/2029-07-05/
LOCATION:3
CATEGORIES:Rental
END:VEVENT
BEGIN:VEVENT
DTSTART;TZID=America/New_York:20290705T190000
DTEND;TZID=America/New_York:20290705T210000
DTSTAMP:20260419T235328
CREATED:20250409T154517Z
LAST-MODIFIED:20251215T184913Z
UID:10002254-1877972400-1877979600@ardenbuzz.com
SUMMARY:Playground Committee
DESCRIPTION:
URL:https://ardenbuzz.com/event/playground-committee/2029-07-05/
LOCATION:1
CATEGORIES:Committee
END:VEVENT
BEGIN:VEVENT
DTSTART;TZID=America/New_York:20290707T090000
DTEND;TZID=America/New_York:20290707T100000
DTSTAMP:20260419T235328
CREATED:20250815T002135Z
LAST-MODIFIED:20251215T190033Z
UID:10003086-1878109200-1878112800@ardenbuzz.com
SUMMARY:Tai Chi
DESCRIPTION:
URL:https://ardenbuzz.com/event/tai-chi-2-2/2029-07-07/
LOCATION:1
CATEGORIES:Community Event
END:VEVENT
BEGIN:VEVENT
DTSTART;TZID=America/New_York:20290708T090000
DTEND;TZID=America/New_York:20290708T130000
DTSTAMP:20260419T235328
CREATED:20250404T031015Z
LAST-MODIFIED:20251129T175139Z
UID:10000229-1878195600-1878210000@ardenbuzz.com
SUMMARY:Awakened Heart
DESCRIPTION:Spiritual Center \n 
URL:https://ardenbuzz.com/event/awakened-heart/2029-07-08/
LOCATION:1/2/3
CATEGORIES:Rental
END:VEVENT
BEGIN:VEVENT
DTSTART;TZID=America/New_York:20290709T090000
DTEND;TZID=America/New_York:20290709T100000
DTSTAMP:20260419T235328
CREATED:20250815T002135Z
LAST-MODIFIED:20251215T190033Z
UID:10003087-1878282000-1878285600@ardenbuzz.com
SUMMARY:Tai Chi
DESCRIPTION:
URL:https://ardenbuzz.com/event/tai-chi-2-2/2029-07-09/
LOCATION:1
CATEGORIES:Community Event
END:VEVENT
BEGIN:VEVENT
DTSTART;TZID=America/New_York:20290709T190000
DTEND;TZID=America/New_York:20290709T210000
DTSTAMP:20260419T235328
CREATED:20250407T210151Z
LAST-MODIFIED:20250407T210151Z
UID:10001144-1878318000-1878325200@ardenbuzz.com
SUMMARY:Art Studio
DESCRIPTION:
URL:https://ardenbuzz.com/event/art-studio/2029-07-09/
LOCATION:3
CATEGORIES:Community Event
END:VEVENT
BEGIN:VEVENT
DTSTART;TZID=America/New_York:20290709T190000
DTEND;TZID=America/New_York:20290709T210000
DTSTAMP:20260419T235328
CREATED:20250409T154347Z
LAST-MODIFIED:20250409T154347Z
UID:10002193-1878318000-1878325200@ardenbuzz.com
SUMMARY:Forest Committee
DESCRIPTION:
URL:https://ardenbuzz.com/event/forest-committee/2029-07-09/
LOCATION:1
CATEGORIES:Committee
END:VEVENT
BEGIN:VEVENT
DTSTART;TZID=America/New_York:20290710T180000
DTEND;TZID=America/New_York:20290710T190000
DTSTAMP:20260419T235328
CREATED:20260109T044115Z
LAST-MODIFIED:20260109T044115Z
UID:10005250-1878400800-1878404400@ardenbuzz.com
SUMMARY:Playground Committee
DESCRIPTION:
URL:https://ardenbuzz.com/event/playground-committee-3/2029-07-10/
LOCATION:2
CATEGORIES:Committee
END:VEVENT
BEGIN:VEVENT
DTSTART;TZID=America/New_York:20290710T193000
DTEND;TZID=America/New_York:20290710T210000
DTSTAMP:20260419T235328
CREATED:20250430T151450Z
LAST-MODIFIED:20250430T151450Z
UID:10002381-1878406200-1878411600@ardenbuzz.com
SUMMARY:Community Planning Committee
DESCRIPTION:
URL:https://ardenbuzz.com/event/community-planning-committee-3/2029-07-10/
LOCATION:2
CATEGORIES:Committee
END:VEVENT
BEGIN:VEVENT
DTSTART;TZID=America/New_York:20290711T174500
DTEND;TZID=America/New_York:20290711T220000
DTSTAMP:20260419T235328
CREATED:20250815T001731Z
LAST-MODIFIED:20251215T190352Z
UID:10004531-1878486300-1878501600@ardenbuzz.com
SUMMARY:Awakened Heart
DESCRIPTION:
URL:https://ardenbuzz.com/event/awakened-heart-3/2029-07-11/
LOCATION:3
CATEGORIES:Rental
END:VEVENT
BEGIN:VEVENT
DTSTART;TZID=America/New_York:20290711T193000
DTEND;TZID=America/New_York:20290711T213000
DTSTAMP:20260419T235328
CREATED:20250818T175109Z
LAST-MODIFIED:20260109T043220Z
UID:10004710-1878492600-1878499800@ardenbuzz.com
SUMMARY:Community Planning Committee
DESCRIPTION:
URL:https://ardenbuzz.com/event/community-planning-committee-5/2029-07-11/
LOCATION:2
CATEGORIES:Committee
END:VEVENT
END:VCALENDAR