BEGIN:VCALENDAR
VERSION:2.0
PRODID:-//Arden Buzz Ware - ECPv6.15.20//NONSGML v1.0//EN
CALSCALE:GREGORIAN
METHOD:PUBLISH
X-ORIGINAL-URL:https://ardenbuzz.com
X-WR-CALDESC:Events for Arden Buzz Ware
REFRESH-INTERVAL;VALUE=DURATION:PT1H
X-Robots-Tag:noindex
X-PUBLISHED-TTL:PT1H
BEGIN:VTIMEZONE
TZID:America/New_York
BEGIN:DAYLIGHT
TZOFFSETFROM:-0500
TZOFFSETTO:-0400
TZNAME:EDT
DTSTART:20280312T070000
END:DAYLIGHT
BEGIN:STANDARD
TZOFFSETFROM:-0400
TZOFFSETTO:-0500
TZNAME:EST
DTSTART:20281105T060000
END:STANDARD
BEGIN:DAYLIGHT
TZOFFSETFROM:-0500
TZOFFSETTO:-0400
TZNAME:EDT
DTSTART:20290311T070000
END:DAYLIGHT
BEGIN:STANDARD
TZOFFSETFROM:-0400
TZOFFSETTO:-0500
TZNAME:EST
DTSTART:20291104T060000
END:STANDARD
BEGIN:DAYLIGHT
TZOFFSETFROM:-0500
TZOFFSETTO:-0400
TZNAME:EDT
DTSTART:20300310T070000
END:DAYLIGHT
BEGIN:STANDARD
TZOFFSETFROM:-0400
TZOFFSETTO:-0500
TZNAME:EST
DTSTART:20301103T060000
END:STANDARD
END:VTIMEZONE
BEGIN:VEVENT
DTSTART;TZID=America/New_York:20290605T193000
DTEND;TZID=America/New_York:20290605T210000
DTSTAMP:20260419T193447
CREATED:20250918T152453Z
LAST-MODIFIED:20250918T152453Z
UID:10004901-1875382200-1875387600@ardenbuzz.com
SUMMARY:Civic Committee Meeting
DESCRIPTION:
URL:https://ardenbuzz.com/event/civic-committee-meeting-4/2029-06-05/
LOCATION:2
CATEGORIES:Committee
END:VEVENT
BEGIN:VEVENT
DTSTART;TZID=America/New_York:20290606T174500
DTEND;TZID=America/New_York:20290606T220000
DTSTAMP:20260419T193447
CREATED:20250815T001731Z
LAST-MODIFIED:20251215T190352Z
UID:10004526-1875462300-1875477600@ardenbuzz.com
SUMMARY:Awakened Heart
DESCRIPTION:
URL:https://ardenbuzz.com/event/awakened-heart-3/2029-06-06/
LOCATION:3
CATEGORIES:Rental
END:VEVENT
BEGIN:VEVENT
DTSTART;TZID=America/New_York:20290607T090000
DTEND;TZID=America/New_York:20290607T100000
DTSTAMP:20260419T193447
CREATED:20250815T002135Z
LAST-MODIFIED:20251215T190033Z
UID:10003073-1875517200-1875520800@ardenbuzz.com
SUMMARY:Tai Chi
DESCRIPTION:
URL:https://ardenbuzz.com/event/tai-chi-2-2/2029-06-07/
LOCATION:1
CATEGORIES:Community Event
END:VEVENT
BEGIN:VEVENT
DTSTART;TZID=America/New_York:20290607T190000
DTEND;TZID=America/New_York:20290607T210000
DTSTAMP:20260419T193447
CREATED:20250406T160451Z
LAST-MODIFIED:20251215T203612Z
UID:10000828-1875553200-1875560400@ardenbuzz.com
SUMMARY:Qi Gong
DESCRIPTION:
URL:https://ardenbuzz.com/event/qi-gong/2029-06-07/
LOCATION:3
CATEGORIES:Rental
END:VEVENT
BEGIN:VEVENT
DTSTART;TZID=America/New_York:20290607T190000
DTEND;TZID=America/New_York:20290607T210000
DTSTAMP:20260419T193447
CREATED:20250409T154517Z
LAST-MODIFIED:20251215T184913Z
UID:10002253-1875553200-1875560400@ardenbuzz.com
SUMMARY:Playground Committee
DESCRIPTION:
URL:https://ardenbuzz.com/event/playground-committee/2029-06-07/
LOCATION:1
CATEGORIES:Committee
END:VEVENT
BEGIN:VEVENT
DTSTART;TZID=America/New_York:20290609T090000
DTEND;TZID=America/New_York:20290609T100000
DTSTAMP:20260419T193447
CREATED:20250815T002135Z
LAST-MODIFIED:20251215T190033Z
UID:10003074-1875690000-1875693600@ardenbuzz.com
SUMMARY:Tai Chi
DESCRIPTION:
URL:https://ardenbuzz.com/event/tai-chi-2-2/2029-06-09/
LOCATION:1
CATEGORIES:Community Event
END:VEVENT
BEGIN:VEVENT
DTSTART;TZID=America/New_York:20290610T090000
DTEND;TZID=America/New_York:20290610T130000
DTSTAMP:20260419T193447
CREATED:20250404T031015Z
LAST-MODIFIED:20251129T175139Z
UID:10000225-1875776400-1875790800@ardenbuzz.com
SUMMARY:Awakened Heart
DESCRIPTION:Spiritual Center \n 
URL:https://ardenbuzz.com/event/awakened-heart/2029-06-10/
LOCATION:1/2/3
CATEGORIES:Rental
END:VEVENT
BEGIN:VEVENT
DTSTART;TZID=America/New_York:20290611T090000
DTEND;TZID=America/New_York:20290611T100000
DTSTAMP:20260419T193447
CREATED:20250815T002135Z
LAST-MODIFIED:20251215T190033Z
UID:10003075-1875862800-1875866400@ardenbuzz.com
SUMMARY:Tai Chi
DESCRIPTION:
URL:https://ardenbuzz.com/event/tai-chi-2-2/2029-06-11/
LOCATION:1
CATEGORIES:Community Event
END:VEVENT
BEGIN:VEVENT
DTSTART;TZID=America/New_York:20290611T190000
DTEND;TZID=America/New_York:20290611T210000
DTSTAMP:20260419T193447
CREATED:20250407T210151Z
LAST-MODIFIED:20250407T210151Z
UID:10001140-1875898800-1875906000@ardenbuzz.com
SUMMARY:Art Studio
DESCRIPTION:
URL:https://ardenbuzz.com/event/art-studio/2029-06-11/
LOCATION:3
CATEGORIES:Community Event
END:VEVENT
BEGIN:VEVENT
DTSTART;TZID=America/New_York:20290611T190000
DTEND;TZID=America/New_York:20290611T210000
DTSTAMP:20260419T193447
CREATED:20250409T154347Z
LAST-MODIFIED:20250409T154347Z
UID:10002192-1875898800-1875906000@ardenbuzz.com
SUMMARY:Forest Committee
DESCRIPTION:
URL:https://ardenbuzz.com/event/forest-committee/2029-06-11/
LOCATION:1
CATEGORIES:Committee
END:VEVENT
BEGIN:VEVENT
DTSTART;TZID=America/New_York:20290612T180000
DTEND;TZID=America/New_York:20290612T190000
DTSTAMP:20260419T193447
CREATED:20260109T044115Z
LAST-MODIFIED:20260109T044115Z
UID:10005249-1875981600-1875985200@ardenbuzz.com
SUMMARY:Playground Committee
DESCRIPTION:
URL:https://ardenbuzz.com/event/playground-committee-3/2029-06-12/
LOCATION:2
CATEGORIES:Committee
END:VEVENT
BEGIN:VEVENT
DTSTART;TZID=America/New_York:20290612T193000
DTEND;TZID=America/New_York:20290612T210000
DTSTAMP:20260419T193447
CREATED:20250430T151450Z
LAST-MODIFIED:20250430T151450Z
UID:10002380-1875987000-1875992400@ardenbuzz.com
SUMMARY:Community Planning Committee
DESCRIPTION:
URL:https://ardenbuzz.com/event/community-planning-committee-3/2029-06-12/
LOCATION:2
CATEGORIES:Committee
END:VEVENT
BEGIN:VEVENT
DTSTART;TZID=America/New_York:20290613T174500
DTEND;TZID=America/New_York:20290613T220000
DTSTAMP:20260419T193447
CREATED:20250815T001731Z
LAST-MODIFIED:20251215T190352Z
UID:10004527-1876067100-1876082400@ardenbuzz.com
SUMMARY:Awakened Heart
DESCRIPTION:
URL:https://ardenbuzz.com/event/awakened-heart-3/2029-06-13/
LOCATION:3
CATEGORIES:Rental
END:VEVENT
BEGIN:VEVENT
DTSTART;TZID=America/New_York:20290613T193000
DTEND;TZID=America/New_York:20290613T213000
DTSTAMP:20260419T193447
CREATED:20250818T175109Z
LAST-MODIFIED:20260109T043220Z
UID:10004709-1876073400-1876080600@ardenbuzz.com
SUMMARY:Community Planning Committee
DESCRIPTION:
URL:https://ardenbuzz.com/event/community-planning-committee-5/2029-06-13/
LOCATION:2
CATEGORIES:Committee
END:VEVENT
BEGIN:VEVENT
DTSTART;TZID=America/New_York:20290614T090000
DTEND;TZID=America/New_York:20290614T100000
DTSTAMP:20260419T193447
CREATED:20250815T002135Z
LAST-MODIFIED:20251215T190033Z
UID:10003076-1876122000-1876125600@ardenbuzz.com
SUMMARY:Tai Chi
DESCRIPTION:
URL:https://ardenbuzz.com/event/tai-chi-2-2/2029-06-14/
LOCATION:1
CATEGORIES:Community Event
END:VEVENT
BEGIN:VEVENT
DTSTART;TZID=America/New_York:20290614T190000
DTEND;TZID=America/New_York:20290614T210000
DTSTAMP:20260419T193447
CREATED:20250406T160451Z
LAST-MODIFIED:20251215T203612Z
UID:10000829-1876158000-1876165200@ardenbuzz.com
SUMMARY:Qi Gong
DESCRIPTION:
URL:https://ardenbuzz.com/event/qi-gong/2029-06-14/
LOCATION:3
CATEGORIES:Rental
END:VEVENT
BEGIN:VEVENT
DTSTART;TZID=America/New_York:20290616T090000
DTEND;TZID=America/New_York:20290616T100000
DTSTAMP:20260419T193447
CREATED:20250815T002135Z
LAST-MODIFIED:20251215T190033Z
UID:10003077-1876294800-1876298400@ardenbuzz.com
SUMMARY:Tai Chi
DESCRIPTION:
URL:https://ardenbuzz.com/event/tai-chi-2-2/2029-06-16/
LOCATION:1
CATEGORIES:Community Event
END:VEVENT
BEGIN:VEVENT
DTSTART;TZID=America/New_York:20290617T090000
DTEND;TZID=America/New_York:20290617T130000
DTSTAMP:20260419T193447
CREATED:20250404T031015Z
LAST-MODIFIED:20251129T175139Z
UID:10000226-1876381200-1876395600@ardenbuzz.com
SUMMARY:Awakened Heart
DESCRIPTION:Spiritual Center \n 
URL:https://ardenbuzz.com/event/awakened-heart/2029-06-17/
LOCATION:1/2/3
CATEGORIES:Rental
END:VEVENT
BEGIN:VEVENT
DTSTART;TZID=America/New_York:20290618T090000
DTEND;TZID=America/New_York:20290618T100000
DTSTAMP:20260419T193447
CREATED:20250815T002135Z
LAST-MODIFIED:20251215T190033Z
UID:10003078-1876467600-1876471200@ardenbuzz.com
SUMMARY:Tai Chi
DESCRIPTION:
URL:https://ardenbuzz.com/event/tai-chi-2-2/2029-06-18/
LOCATION:1
CATEGORIES:Community Event
END:VEVENT
BEGIN:VEVENT
DTSTART;TZID=America/New_York:20290618T170000
DTEND;TZID=America/New_York:20290618T190000
DTSTAMP:20260419T193447
CREATED:20250404T041536Z
LAST-MODIFIED:20250404T041536Z
UID:10000585-1876496400-1876503600@ardenbuzz.com
SUMMARY:Buzz Committee
DESCRIPTION:
URL:https://ardenbuzz.com/event/buzz-committee/2029-06-18/
LOCATION:2
CATEGORIES:Committee
END:VEVENT
BEGIN:VEVENT
DTSTART;TZID=America/New_York:20290618T190000
DTEND;TZID=America/New_York:20290618T210000
DTSTAMP:20260419T193447
CREATED:20250407T210151Z
LAST-MODIFIED:20250407T210151Z
UID:10001141-1876503600-1876510800@ardenbuzz.com
SUMMARY:Art Studio
DESCRIPTION:
URL:https://ardenbuzz.com/event/art-studio/2029-06-18/
LOCATION:3
CATEGORIES:Community Event
END:VEVENT
BEGIN:VEVENT
DTSTART;TZID=America/New_York:20290620T174500
DTEND;TZID=America/New_York:20290620T220000
DTSTAMP:20260419T193447
CREATED:20250815T001731Z
LAST-MODIFIED:20251215T190352Z
UID:10004528-1876671900-1876687200@ardenbuzz.com
SUMMARY:Awakened Heart
DESCRIPTION:
URL:https://ardenbuzz.com/event/awakened-heart-3/2029-06-20/
LOCATION:3
CATEGORIES:Rental
END:VEVENT
BEGIN:VEVENT
DTSTART;TZID=America/New_York:20290621T090000
DTEND;TZID=America/New_York:20290621T100000
DTSTAMP:20260419T193447
CREATED:20250815T002135Z
LAST-MODIFIED:20251215T190033Z
UID:10003079-1876726800-1876730400@ardenbuzz.com
SUMMARY:Tai Chi
DESCRIPTION:
URL:https://ardenbuzz.com/event/tai-chi-2-2/2029-06-21/
LOCATION:1
CATEGORIES:Community Event
END:VEVENT
BEGIN:VEVENT
DTSTART;TZID=America/New_York:20290621T190000
DTEND;TZID=America/New_York:20290621T210000
DTSTAMP:20260419T193447
CREATED:20250406T160451Z
LAST-MODIFIED:20251215T203612Z
UID:10000830-1876762800-1876770000@ardenbuzz.com
SUMMARY:Qi Gong
DESCRIPTION:
URL:https://ardenbuzz.com/event/qi-gong/2029-06-21/
LOCATION:3
CATEGORIES:Rental
END:VEVENT
BEGIN:VEVENT
DTSTART;TZID=America/New_York:20290623T090000
DTEND;TZID=America/New_York:20290623T100000
DTSTAMP:20260419T193447
CREATED:20250815T002135Z
LAST-MODIFIED:20251215T190033Z
UID:10003080-1876899600-1876903200@ardenbuzz.com
SUMMARY:Tai Chi
DESCRIPTION:
URL:https://ardenbuzz.com/event/tai-chi-2-2/2029-06-23/
LOCATION:1
CATEGORIES:Community Event
END:VEVENT
BEGIN:VEVENT
DTSTART;TZID=America/New_York:20290624T090000
DTEND;TZID=America/New_York:20290624T130000
DTSTAMP:20260419T193447
CREATED:20250404T031015Z
LAST-MODIFIED:20251129T175139Z
UID:10000227-1876986000-1877000400@ardenbuzz.com
SUMMARY:Awakened Heart
DESCRIPTION:Spiritual Center \n 
URL:https://ardenbuzz.com/event/awakened-heart/2029-06-24/
LOCATION:1/2/3
CATEGORIES:Rental
END:VEVENT
BEGIN:VEVENT
DTSTART;TZID=America/New_York:20290625T090000
DTEND;TZID=America/New_York:20290625T100000
DTSTAMP:20260419T193447
CREATED:20250815T002135Z
LAST-MODIFIED:20251215T190033Z
UID:10003081-1877072400-1877076000@ardenbuzz.com
SUMMARY:Tai Chi
DESCRIPTION:
URL:https://ardenbuzz.com/event/tai-chi-2-2/2029-06-25/
LOCATION:1
CATEGORIES:Community Event
END:VEVENT
BEGIN:VEVENT
DTSTART;TZID=America/New_York:20290625T190000
DTEND;TZID=America/New_York:20290625T210000
DTSTAMP:20260419T193447
CREATED:20250407T210151Z
LAST-MODIFIED:20250407T210151Z
UID:10001142-1877108400-1877115600@ardenbuzz.com
SUMMARY:Art Studio
DESCRIPTION:
URL:https://ardenbuzz.com/event/art-studio/2029-06-25/
LOCATION:3
CATEGORIES:Community Event
END:VEVENT
BEGIN:VEVENT
DTSTART;TZID=America/New_York:20290627T174500
DTEND;TZID=America/New_York:20290627T220000
DTSTAMP:20260419T193447
CREATED:20250815T001731Z
LAST-MODIFIED:20251215T190352Z
UID:10004529-1877276700-1877292000@ardenbuzz.com
SUMMARY:Awakened Heart
DESCRIPTION:
URL:https://ardenbuzz.com/event/awakened-heart-3/2029-06-27/
LOCATION:3
CATEGORIES:Rental
END:VEVENT
BEGIN:VEVENT
DTSTART;TZID=America/New_York:20290628T090000
DTEND;TZID=America/New_York:20290628T100000
DTSTAMP:20260419T193447
CREATED:20250815T002135Z
LAST-MODIFIED:20251215T190033Z
UID:10003082-1877331600-1877335200@ardenbuzz.com
SUMMARY:Tai Chi
DESCRIPTION:
URL:https://ardenbuzz.com/event/tai-chi-2-2/2029-06-28/
LOCATION:1
CATEGORIES:Community Event
END:VEVENT
END:VCALENDAR