BEGIN:VCALENDAR
VERSION:2.0
PRODID:-//Arden Buzz Ware - ECPv6.15.20//NONSGML v1.0//EN
CALSCALE:GREGORIAN
METHOD:PUBLISH
X-WR-CALNAME:Arden Buzz Ware
X-ORIGINAL-URL:https://ardenbuzz.com
X-WR-CALDESC:Events for Arden Buzz Ware
REFRESH-INTERVAL;VALUE=DURATION:PT1H
X-Robots-Tag:noindex
X-PUBLISHED-TTL:PT1H
BEGIN:VTIMEZONE
TZID:America/New_York
BEGIN:DAYLIGHT
TZOFFSETFROM:-0500
TZOFFSETTO:-0400
TZNAME:EDT
DTSTART:20240310T070000
END:DAYLIGHT
BEGIN:STANDARD
TZOFFSETFROM:-0400
TZOFFSETTO:-0500
TZNAME:EST
DTSTART:20241103T060000
END:STANDARD
BEGIN:DAYLIGHT
TZOFFSETFROM:-0500
TZOFFSETTO:-0400
TZNAME:EDT
DTSTART:20250309T070000
END:DAYLIGHT
BEGIN:STANDARD
TZOFFSETFROM:-0400
TZOFFSETTO:-0500
TZNAME:EST
DTSTART:20251102T060000
END:STANDARD
BEGIN:DAYLIGHT
TZOFFSETFROM:-0500
TZOFFSETTO:-0400
TZNAME:EDT
DTSTART:20260308T070000
END:DAYLIGHT
BEGIN:STANDARD
TZOFFSETFROM:-0400
TZOFFSETTO:-0500
TZNAME:EST
DTSTART:20261101T060000
END:STANDARD
END:VTIMEZONE
BEGIN:VEVENT
DTSTART;TZID=America/New_York:20250811T090000
DTEND;TZID=America/New_York:20250811T100000
DTSTAMP:20260421T215350
CREATED:20250507T131456Z
LAST-MODIFIED:20250720T153627Z
UID:10002475-1754902800-1754906400@ardenbuzz.com
SUMMARY:Tai Chi
DESCRIPTION:
URL:https://ardenbuzz.com/event/tai-chi-2/2025-08-11/
LOCATION:1
CATEGORIES:Community Event
END:VEVENT
BEGIN:VEVENT
DTSTART;TZID=America/New_York:20250811T190000
DTEND;TZID=America/New_York:20250811T210000
DTSTAMP:20260421T215350
CREATED:20250407T210151Z
LAST-MODIFIED:20250407T210151Z
UID:10000940-1754938800-1754946000@ardenbuzz.com
SUMMARY:Art Studio
DESCRIPTION:
URL:https://ardenbuzz.com/event/art-studio/2025-08-11/
LOCATION:3
CATEGORIES:Community Event
END:VEVENT
BEGIN:VEVENT
DTSTART;TZID=America/New_York:20250811T190000
DTEND;TZID=America/New_York:20250811T210000
DTSTAMP:20260421T215350
CREATED:20250409T154347Z
LAST-MODIFIED:20250409T154347Z
UID:10002146-1754938800-1754946000@ardenbuzz.com
SUMMARY:Forest Committee
DESCRIPTION:
URL:https://ardenbuzz.com/event/forest-committee/2025-08-11/
LOCATION:1
CATEGORIES:Committee
END:VEVENT
END:VCALENDAR